BEGIN:VCALENDAR
PRODID:NingEventWidget-v1
VERSION:2.0
METHOD:PUBLISH
BEGIN:VTIMEZONE
TZID:Pacific/Midway
X-LIC-LOCATION:Pacific/Midway
BEGIN:STANDARD
TZOFFSETFROM:-1100
TZOFFSETTO:-1100
TZNAME:SST
DTSTART:19700101T000000
END:STANDARD
END:VTIMEZONE
BEGIN:VEVENT
UID:3646443:Event:68495
DTSTAMP:20260421T185858Z
SUMMARY:Business to Business Sales
DESCRIPTION:Richard Baker of Food Distribution Guy will discuss food d
 istribution and the special requirements of sales to food service prov
 iders, restaurants, caterers, institutions and other wholesale clients
 Cost: $15\n\nFor more information visit https://ontag.farms.com/event
 s/business-to-business-sales
DTSTART;TZID=Pacific/Midway:20170222T190000
DTEND;TZID=Pacific/Midway:20170222T210000
CATEGORIES:workshop
LOCATION:Simcoe Street Theatre
WEBSITE:http://edo.simcoe.ca/Shared%20Documents/January%206%202017%20-
 %20Fillable%20Registration%20Form%20-%20Workshops.pdf
URL:http://edo.simcoe.ca/Shared%20Documents/January%206%202017%20-%20F
 illable%20Registration%20Form%20-%20Workshops.pdf
CONTACT:705-729-9300 ext. 1429
ORGANIZER;CN="OntAG Admin":https://ontag.farms.com/profile/OntAGAdmin
ATTACH;FMTTYPE="image/jpeg":
ATTENDEE;ROLE=REQ-PARTICIPANT;PARTSTAT=ACCEPTED;RSVP=TRUE;CN="OntAG Ad
 min":https://ontag.farms.com/profile/OntAGAdmin
END:VEVENT
END:VCALENDAR
