BEGIN:VCALENDAR
PRODID:NingEventWidget-v1
VERSION:2.0
METHOD:PUBLISH
BEGIN:VTIMEZONE
TZID:Pacific/Midway
X-LIC-LOCATION:Pacific/Midway
BEGIN:STANDARD
TZOFFSETFROM:-1100
TZOFFSETTO:-1100
TZNAME:SST
DTSTART:19700101T000000
END:STANDARD
END:VTIMEZONE
BEGIN:VEVENT
UID:3646443:Event:53157
DTSTAMP:20260422T214931Z
SUMMARY:Buying A Farm: Planning Ahead for Farm Ownership
DESCRIPTION:Do you have the dream of buying a farm? If so, the earlier
  you begin toresearch and plan for it, the better! How should you begi
 n yoursearch? How do you find financing? How do you make an offer? The
 se questions and lots more will be the focus of this workshop, gearedt
 owards first time buyers.Topics to be covered will include:\n\nSetting
  priorities on what to look for in a farm, and where to look\nFinancin
 g: the process of getting approved for a mortgage, the roleÂ of a mort
 gage broker and the difference between a residential andÂ agricultural
  mortgage\nThe process of making an offer and learning the lingo (ex:Â
  signbacks, amendments, chattels)\nWho you need on your team (ex: mort
 gage broker, real estate agent,Â lawyer, home inspector)\n\nThis works
 hop will help demystify the process of purchasing a farm, andÂ help yo
 u decide if this is the right choice for you.\nWhen:Â Saturday June 7,
 Â 1:00-5:oo pmInstructor:Â Tarrah YoungLocation:Â Guelph Chamber of Co
 mmerce,Cost:Â $65 (+HST) per person or $110 (+HST)Â for twoRegistratio
 n:Â click here to register\nWWW.FARMSTART.CA\n\nFor more information v
 isit https://ontag.farms.com/events/buying-a-farm-planning-ahead-for-f
 arm-ownership
DTSTART;TZID=Pacific/Midway:20140421T180000
DTEND;TZID=Pacific/Midway:20140421T190000
CATEGORIES:farming, workshop
LOCATION:Guelph Chamber of Commerce
WEBSITE:http://www.farmstart.ca/programs/training/workshops/#buying
URL:http://www.farmstart.ca/programs/training/workshops/#buying
CONTACT:519-836-7046 x 103
ORGANIZER:Cherie Bauman
ATTACH;FMTTYPE="image/jpeg":http://storage.ning.com/topology/rest/1.0/
 file/get/1091524031?profile=original
ATTENDEE;ROLE=REQ-PARTICIPANT;PARTSTAT=ACCEPTED;RSVP=TRUE;CN="Julie De
 nneny":https://ontag.farms.com/profile/JulieDenneny
END:VEVENT
END:VCALENDAR
