BEGIN:VCALENDAR
PRODID:NingEventWidget-v1
VERSION:2.0
METHOD:PUBLISH
BEGIN:VTIMEZONE
TZID:Pacific/Midway
X-LIC-LOCATION:Pacific/Midway
BEGIN:STANDARD
TZOFFSETFROM:-1100
TZOFFSETTO:-1100
TZNAME:SST
DTSTART:19700101T000000
END:STANDARD
END:VTIMEZONE
BEGIN:VEVENT
UID:3646443:Event:45577
DTSTAMP:20260422T224642Z
SUMMARY:CAFA CURRENT & CONNECTED Conference
DESCRIPTION:An educational day for ag industry stakeholders and an opp
 ortunity to network with like-minded professionals.\n\nFor more inform
 ation visit https://ontag.farms.com/events/cafa-current-connected-conf
 erence
DTSTART;TZID=Pacific/Midway:20131010T083000
DTEND;TZID=Pacific/Midway:20131010T163000
CATEGORIES:educational, "&", networking
LOCATION:Best Western
WEBSITE:http://www.cafanet.com
URL:http://www.cafanet.com
CONTACT:1-877-474-2871
ORGANIZER;CN="Liz Robertson":https://ontag.farms.com/profile/lizrobert
 son56
ATTACH;FMTTYPE="image/jpeg":
ATTENDEE;ROLE=REQ-PARTICIPANT;PARTSTAT=ACCEPTED;RSVP=TRUE;CN="Liz Robe
 rtson":https://ontag.farms.com/profile/lizrobertson56
END:VEVENT
END:VCALENDAR
