BEGIN:VCALENDAR
PRODID:NingEventWidget-v1
VERSION:2.0
METHOD:PUBLISH
BEGIN:VTIMEZONE
TZID:Pacific/Midway
X-LIC-LOCATION:Pacific/Midway
BEGIN:STANDARD
TZOFFSETFROM:-1100
TZOFFSETTO:-1100
TZNAME:SST
DTSTART:19700101T000000
END:STANDARD
END:VTIMEZONE
BEGIN:VEVENT
UID:3646443:Event:4594
DTSTAMP:20260422T093631Z
SUMMARY:CAFA’s 6th Annual Ontario Conference
DESCRIPTION:CAFA’s 6th Annual Ontario Conference\nDate - June 1,2010
  to June 2, 2010\nTime - All Day Event\nPlace - Stratford\nWebsite - w
 ww.cafanet.com\n------------------------------------------------------
 -\n\nDetails to follwo or visit our website at: www.cafanet.com\n\nFor
  more information visit https://ontag.farms.com/events/cafas-6th-annua
 l-ontario
DTSTART;TZID=Pacific/Midway:20100601T000000
DTEND;TZID=Pacific/Midway:20100602T235900
CATEGORIES:conference
LOCATION:Stratford
WEBSITE:http://www.cafanet.com
URL:http://www.cafanet.com
CONTACT:
ORGANIZER:CAFA Ontario
ATTACH;FMTTYPE="image/jpeg":http://storage.ning.com/topology/rest/1.0/
 file/get/1091502311?profile=original
ATTENDEE;ROLE=REQ-PARTICIPANT;PARTSTAT=ACCEPTED;RSVP=TRUE;CN=AgOntario
 :https://ontag.farms.com/profile/AgOntario
END:VEVENT
END:VCALENDAR
