BEGIN:VCALENDAR
PRODID:NingEventWidget-v1
VERSION:2.0
METHOD:PUBLISH
BEGIN:VTIMEZONE
TZID:Pacific/Midway
X-LIC-LOCATION:Pacific/Midway
BEGIN:STANDARD
TZOFFSETFROM:-1100
TZOFFSETTO:-1100
TZNAME:SST
DTSTART:19700101T000000
END:STANDARD
END:VTIMEZONE
BEGIN:VEVENT
UID:3646443:Event:17463
DTSTAMP:20260421T191728Z
SUMMARY:CAFA's 7th Annual Ontario Provincial Conference
DESCRIPTION:Canadian Association of Farm Advisors CAFA's 7th Annual On
 tario Provincial ConferenceFeatured Speakers:â€¢ Dr. Brian Evans, Chie
 f Veterinary Officer, Chief Food Safety Officer, CFIA, Ottawa : Food s
 afety: good is not good enoughâ€¢ Dr. Lauren Baker, Ph.D., Director, S
 ustain Ontario : Good food gap - 4-H Ontarioâ€¢ OSCIA, on Growing your
  farm profitsâ€¢ Andrew Campbell, Fresh Air Media: The social shift â€
 “ and where agriculture fitsFarmer Panel with:â€¢ Martin & Teresa Van 
 Raay: The whole pigâ€¢ Patty Thompson: king Cole Ducks Limitedâ€¢ Tris
 h Fournier, General Manager Lake Erie Farmsâ€¢ Dr. Glenn Fox, Universi
 ty of Guelph : Implications of the Green Energy Act for Ontario\n\nFor
  more information visit https://ontag.farms.com/events/cafas-7th-annua
 l-ontario
DTSTART;TZID=Pacific/Midway:20110602T000000
DTEND;TZID=Pacific/Midway:20110602T235900
CATEGORIES:conference
LOCATION:Quality Inn & Suites, Woodstock
WEBSITE:http://events.r20.constantcontact.com/register/event?llr=qh7sc
 dfab&oeidk=a07e3n63avi2cb07c78&oseq=a01p1gmntvlhy
URL:http://events.r20.constantcontact.com/register/event?llr=qh7scdfab
 &oeidk=a07e3n63avi2cb07c78&oseq=a01p1gmntvlhy
CONTACT:
ORGANIZER:CAFA
ATTACH;FMTTYPE="image/jpeg":http://storage.ning.com/topology/rest/1.0/
 file/get/1091510439?profile=original
ATTENDEE;ROLE=REQ-PARTICIPANT;PARTSTAT=ACCEPTED;RSVP=TRUE;CN="OntAG Ad
 min":https://ontag.farms.com/profile/OntAGAdmin
END:VEVENT
END:VCALENDAR
