BEGIN:VCALENDAR
PRODID:NingEventWidget-v1
VERSION:2.0
METHOD:PUBLISH
BEGIN:VTIMEZONE
TZID:Pacific/Midway
X-LIC-LOCATION:Pacific/Midway
BEGIN:STANDARD
TZOFFSETFROM:-1100
TZOFFSETTO:-1100
TZNAME:SST
DTSTART:19700101T000000
END:STANDARD
END:VTIMEZONE
BEGIN:VEVENT
UID:3646443:Event:3601
DTSTAMP:20260421T162950Z
SUMMARY:CAMA Meeting at the Canadian International Farm Show
DESCRIPTION:Join the members of CAMA Ontario to their upcoming meeting
 .\n\nGuest Speaker: Jay Bradshaw, President of Syngenta Crop Protectio
 n Canada, Inc and the 2009 Agri-Marketer of the Year.\n\nTopic: Feedin
 g the World: Agricultural technologies as viable\nsolutions to the dil
 emma of growth.\n\nClick here to register or call Mary at (519) 389-65
 52.\n\nFor more information visit https://ontag.farms.com/events/cama-
 meeting-at-the-canadian
DTSTART;TZID=Pacific/Midway:20100217T113000
DTEND;TZID=Pacific/Midway:20100217T134500
CATEGORIES:networking, "/", guest, speaker
LOCATION:International Centre - Hall 5, Aviation \"A\"
WEBSITE:
URL:
CONTACT:--
ORGANIZER;CN="CAMA Ontario":https://ontag.farms.com/profile/CAMAOntari
 o
ATTACH;FMTTYPE="image/jpeg":
ATTENDEE;ROLE=REQ-PARTICIPANT;PARTSTAT=ACCEPTED;RSVP=TRUE;CN="CAMA Ont
 ario":https://ontag.farms.com/profile/CAMAOntario
ATTENDEE;ROLE=REQ-PARTICIPANT;PARTSTAT=TENTATIVE;RSVP=TRUE;CN="John Be
 ardsley":https://ontag.farms.com/profile/JohnBeardsley
END:VEVENT
END:VCALENDAR
