BEGIN:VCALENDAR
PRODID:NingEventWidget-v1
VERSION:2.0
METHOD:PUBLISH
BEGIN:VTIMEZONE
TZID:Pacific/Midway
X-LIC-LOCATION:Pacific/Midway
BEGIN:STANDARD
TZOFFSETFROM:-1100
TZOFFSETTO:-1100
TZNAME:SST
DTSTART:19700101T000000
END:STANDARD
END:VTIMEZONE
BEGIN:VEVENT
UID:3646443:Event:3971
DTSTAMP:20260420T123459Z
SUMMARY:CAMA Meeting - Topic: Social Media - The Growing Trend.
DESCRIPTION:You're invited to attend the Canadian Agri-Marketing Assoc
 iation (CAMA) meeting to learn more about social media and branding.\n
 \nTopic: Social Media - The Growing Trend: How marketers can facilitat
 e sustainable conversations between brands and consumers through socia
 l media.\n\nGuest Speaker: Mark Brown, Vice President of Avator Intera
 ctive, London, ON.\n\nFor more information visit https://ontag.farms.c
 om/events/cama-meeting-topic-social
DTSTART;TZID=Pacific/Midway:20100310T113000
DTEND;TZID=Pacific/Midway:20100310T133000
CATEGORIES:networking, "/", educational
LOCATION:London Sports Centre - Olympic Room
WEBSITE:http://events.constantcontact.com/register/event?oeidk=a07e2q6
 57s70e01509e
URL:http://events.constantcontact.com/register/event?oeidk=a07e2q657s7
 0e01509e
CONTACT:519-389-6552
ORGANIZER;CN="CAMA Ontario":https://ontag.farms.com/profile/CAMAOntari
 o
ATTACH;FMTTYPE="image/jpeg":
ATTENDEE;ROLE=REQ-PARTICIPANT;PARTSTAT=ACCEPTED;RSVP=TRUE;CN="CAMA Ont
 ario":https://ontag.farms.com/profile/CAMAOntario
END:VEVENT
END:VCALENDAR
