BEGIN:VCALENDAR
PRODID:NingEventWidget-v1
VERSION:2.0
METHOD:PUBLISH
BEGIN:VTIMEZONE
TZID:Pacific/Midway
X-LIC-LOCATION:Pacific/Midway
BEGIN:STANDARD
TZOFFSETFROM:-1100
TZOFFSETTO:-1100
TZNAME:SST
DTSTART:19700101T000000
END:STANDARD
END:VTIMEZONE
BEGIN:VEVENT
UID:3646443:Event:29796
DTSTAMP:20260419T124249Z
SUMMARY:CAMA Ontario Webinar  Topic: Gen Y - How they think & how to m
 arket to them.
DESCRIPTION:‘Millennial’, ‘Gen Y’ or ‘Echo boomers’ refers
  to people born between 1982-1995. This demographic group numbers 12.6
  million and have enjoyed the most child-centric audience during their
  developmental years. Now, it’s your job to market to them!Join us f
 or an informative, insightful webinar that will answer your questions 
 about how to connect with this group of savvy consumers.You will learn
 :\n\n· What makes a Gen Y a Gen Y?\n· Gen Y’s are young – what m
 akes them different from young people of other generations?\n· What a
 ttracts the attention of a person born in the Gen Y years?\n· When ma
 rketing to Gen Y’s, how do we convert awareness to action?\n\nOur pr
 esenter will be Carly O’Brien, Principal with The Achievement Cent
 re and organization that helpspeople and organizations Make More Mone
 y and Have More Fun. She came to our attention from her presentation a
 t the Symposium for Women in Agri-business. Since 1990, Carly has been
  successful in sales, research, project implementation and leadership 
 positions within federal government agencies, educational institutions
  and small to medium sized enterprises, including start up and multina
 tional companies. She is a regular contributor to business publication
 s, a member of several volunteer boards and works with manyGen Ys help
  them achieve their success.\n \n \nWebinar DetailsDate:  Tuesday, 
 January 31, 2012Time:  2:00 pm  - 3:00pm EST (1:00 - 2:00 CST, 12:00
  - 1:00 MST)Cost:  $30 per person\nRegister Now!\n\nFor more inform
 ation visit https://ontag.farms.com/events/cama-ontario-webinar-topic-
 gen-y-how-they-think-how-to-market-to-
DTSTART;TZID=Pacific/Midway:20120131T140000
DTEND;TZID=Pacific/Midway:20120131T150000
CATEGORIES:webinar
LOCATION:Online
WEBSITE:http://events.r20.constantcontact.com/register/event?llr=it6sl
 gdab&oeidk=a07e5g1knqi919eefcc
URL:http://events.r20.constantcontact.com/register/event?llr=it6slgdab
 &oeidk=a07e5g1knqi919eefcc
CONTACT:
ORGANIZER:CAMA Ontario
ATTACH;FMTTYPE="image/jpeg":
ATTENDEE;ROLE=REQ-PARTICIPANT;PARTSTAT=ACCEPTED;RSVP=TRUE;CN="OntAG Ad
 min":https://ontag.farms.com/profile/OntAGAdmin
ATTENDEE;ROLE=REQ-PARTICIPANT;PARTSTAT=TENTATIVE;RSVP=TRUE;CN="Richard
  Hamilton":https://ontag.farms.com/profile/RichardHamilton
END:VEVENT
END:VCALENDAR
