BEGIN:VCALENDAR
PRODID:NingEventWidget-v1
VERSION:2.0
METHOD:PUBLISH
BEGIN:VTIMEZONE
TZID:Pacific/Midway
X-LIC-LOCATION:Pacific/Midway
BEGIN:STANDARD
TZOFFSETFROM:-1100
TZOFFSETTO:-1100
TZNAME:SST
DTSTART:19700101T000000
END:STANDARD
END:VTIMEZONE
BEGIN:VEVENT
UID:3646443:Event:32079
DTSTAMP:20260422T110533Z
SUMMARY:Canada's Fruit & Veg X-Change
DESCRIPTION:Hours of Operation for 2012 X-Change are:\n\nThursday July
  12, 2012:Friday July 13, 2012:Saturday July 14, 2012:\n10:00 am - 6:0
 0 pm10:00 am - 6:00 pm10:00 am - 4:00 pm\n\n\n\nWe are located at 1195
  Front Road St Williams. Postal code: ON N0E 1P0.\nA great big THANK Y
 OU to all who helped make the 2011 X-Change a great success.\nCanada's
  Fruit & Veg Tech X-Change (CFVTX) is an outdoor, not-for-profit, hort
 icultural trade show for commercial fruit and veg producers and their 
 families. Encompassing: Row Crop, Orchard, Vineyard, Greenhouse and to
 bacco sectors.\nThis progressive sector is showcased under real farm c
 onditions, all in one location on Thursday July 12, Friday July 13, 
 and Saturday July 14 2012, right here in Norfolk County – just 10 m
 ins south of the “HORT HWY#3” - Simcoe, Ontario.\nA staggering 242
  exhibitors came from across North America to engage in the inaugural 
 Hort showcase. For a first time event, we were extremely pleased with 
 the showmanship and enthusiasm put into product and service displays. 
 2,200 qualified producer families came through the gates this year, wi
 th the intention to do business.\nWe have assembled a top notch steeri
 ng committee of 30+ exhibitors and producers. We heard loud and clear 
 that the dates of the X-Change had to fall between planting and harves
 t for the majority of fruit and veg crops in this province, hence the
 new dates of: July 12th,13th,14th 2012.\nWe are located at 1195 Fro
 nt Road St Williams. Postal code: ON N0E 1P0.\n\nFor more information 
 visit https://ontag.farms.com/events/canada-s-fruit-veg-x-change
DTSTART;TZID=Pacific/Midway:20120712T180000
DTEND;TZID=Pacific/Midway:20120714T190000
CATEGORIES:trade, show
LOCATION:1195 Front Road St Williams
WEBSITE:http://www.fruitveg.ca/
URL:http://www.fruitveg.ca/
CONTACT:
ORGANIZER;CN="OntAG Admin":https://ontag.farms.com/profile/OntAGAdmin
ATTACH;FMTTYPE="image/jpeg":http://storage.ning.com/topology/rest/1.0/
 file/get/1091517293?profile=original
ATTENDEE;ROLE=REQ-PARTICIPANT;PARTSTAT=ACCEPTED;RSVP=TRUE;CN="Joe Dale
 s":https://ontag.farms.com/profile/JoeDales
ATTENDEE;ROLE=REQ-PARTICIPANT;PARTSTAT=ACCEPTED;RSVP=TRUE;CN="OntAG Ad
 min":https://ontag.farms.com/profile/OntAGAdmin
END:VEVENT
END:VCALENDAR
