BEGIN:VCALENDAR
PRODID:NingEventWidget-v1
VERSION:2.0
METHOD:PUBLISH
BEGIN:VTIMEZONE
TZID:Pacific/Midway
X-LIC-LOCATION:Pacific/Midway
BEGIN:STANDARD
TZOFFSETFROM:-1100
TZOFFSETTO:-1100
TZNAME:SST
DTSTART:19700101T000000
END:STANDARD
END:VTIMEZONE
BEGIN:VEVENT
UID:3646443:Event:32106
DTSTAMP:20260421T015833Z
SUMMARY:Canada's Outdoor Equine Expo
DESCRIPTION:From June 8th to 10th, the third annual Canada’s Outdoor
  Equine Expo will bring together experts from across the North America
 n horse community to better benefit you & your horse. View the brochur
 e for details of this years show.  » Download\n\nFor more informati
 on visit https://ontag.farms.com/events/canada-s-outdoor-equine-expo
DTSTART;TZID=Pacific/Midway:20120608T000000
DTEND;TZID=Pacific/Midway:20120610T235900
CATEGORIES:equestrian, expo
LOCATION:Iron Horse Equestrian Complex
WEBSITE:http://www.equineexpo.ca/index.html
URL:http://www.equineexpo.ca/index.html
CONTACT:
ORGANIZER:COFS
ATTACH;FMTTYPE="image/jpeg":http://storage.ning.com/topology/rest/1.0/
 file/get/1091515558?profile=original
ATTENDEE;ROLE=REQ-PARTICIPANT;PARTSTAT=ACCEPTED;RSVP=TRUE;CN="OntAG Ad
 min":https://ontag.farms.com/profile/OntAGAdmin
END:VEVENT
END:VCALENDAR
