BEGIN:VCALENDAR
PRODID:NingEventWidget-v1
VERSION:2.0
METHOD:PUBLISH
BEGIN:VTIMEZONE
TZID:Pacific/Midway
X-LIC-LOCATION:Pacific/Midway
BEGIN:STANDARD
TZOFFSETFROM:-1100
TZOFFSETTO:-1100
TZNAME:SST
DTSTART:19700101T000000
END:STANDARD
END:VTIMEZONE
BEGIN:VEVENT
UID:3646443:Event:60909
DTSTAMP:20260419T083035Z
SUMMARY:Canada's Outdoor Farm Show 2015
DESCRIPTION:As our nation's premier outdoor agricultural showcase, Can
 ada's Outdoor Farm Show offers \"one stop shopping\" for farmers and h
 ighlights the most innovative and technologically advanced agricultura
 l products and services available.\n\nFor more information visit https
 ://ontag.farms.com/events/canada-s-outdoor-farm-show-2015
DTSTART;TZID=Pacific/Midway:20150915T000000
DTEND;TZID=Pacific/Midway:20150917T235900
CATEGORIES:farm, show
LOCATION:Canada's Outdoor Park
WEBSITE:http://www.outdoorfarmshow.com/
URL:http://www.outdoorfarmshow.com/
CONTACT:
ORGANIZER:Canada's Outdoor Farm Show
ATTACH;FMTTYPE="image/jpeg":http://storage.ning.com/topology/rest/1.0/
 file/get/1091524333?profile=original
ATTENDEE;ROLE=REQ-PARTICIPANT;PARTSTAT=ACCEPTED;RSVP=TRUE;CN="OntAG Ad
 min":https://ontag.farms.com/profile/OntAGAdmin
ATTENDEE;ROLE=REQ-PARTICIPANT;PARTSTAT=TENTATIVE;RSVP=TRUE;CN="Alexand
 re Dos Santos":https://ontag.farms.com/profile/AlexandreDosSantos
END:VEVENT
END:VCALENDAR
