BEGIN:VCALENDAR
PRODID:NingEventWidget-v1
VERSION:2.0
METHOD:PUBLISH
BEGIN:VTIMEZONE
TZID:Pacific/Midway
X-LIC-LOCATION:Pacific/Midway
BEGIN:STANDARD
TZOFFSETFROM:-1100
TZOFFSETTO:-1100
TZNAME:SST
DTSTART:19700101T000000
END:STANDARD
END:VTIMEZONE
BEGIN:VEVENT
UID:3646443:Event:64263
DTSTAMP:20260421T025201Z
SUMMARY:Canada's Outdoor Farm Show 2016
DESCRIPTION:Canadaâ€™s Outdoor Farm Show is Where Farmers Meet. Itâ€™s
  the place where they meet to see the latest innovations in agricultur
 e. Itâ€™s the place they meet to talk with exhibitors, to learn whatâ€
 ™s new and see technology in action. Itâ€™s the place they come to do 
 business.\n\nFor more information visit https://ontag.farms.com/events
 /canada-s-outdoor-farm-show-2016
DTSTART;TZID=Pacific/Midway:20160913T000000
DTEND;TZID=Pacific/Midway:20160915T235900
CATEGORIES:show
LOCATION:Canada's Outdoor Park, Woodstock, Ontario
WEBSITE:
URL:
CONTACT:
ORGANIZER;CN="OntAG Admin":https://ontag.farms.com/profile/OntAGAdmin
ATTACH;FMTTYPE="image/jpeg":http://storage.ning.com/topology/rest/1.0/
 file/get/1091544727?profile=original
ATTENDEE;ROLE=REQ-PARTICIPANT;PARTSTAT=ACCEPTED;RSVP=TRUE;CN="OntAG Ad
 min":https://ontag.farms.com/profile/OntAGAdmin
END:VEVENT
END:VCALENDAR
