BEGIN:VCALENDAR
PRODID:NingEventWidget-v1
VERSION:2.0
METHOD:PUBLISH
BEGIN:VTIMEZONE
TZID:Pacific/Midway
X-LIC-LOCATION:Pacific/Midway
BEGIN:STANDARD
TZOFFSETFROM:-1100
TZOFFSETTO:-1100
TZNAME:SST
DTSTART:19700101T000000
END:STANDARD
END:VTIMEZONE
BEGIN:VEVENT
UID:3646443:Event:113171
DTSTAMP:20260420T215343Z
SUMMARY:Canada’s Outdoor Farm Show 2024
DESCRIPTION:Canada's Outdoor Farm Show, where we turn farming into a r
 eal-life show and tell. We've been doing this since 1993, right in the
  heart of Woodstock, Ontario. It's all about giving farmers like you a
  place to see what's new in the world of farming, talk shop, and share
  tips and tricks.  Canada's Outdoor Farm Show, you'll find more than h
 undreds of exhibitors set up to show you their latest and greatest. Th
 ey come from all across Canada and beyond, showing everything from the
  biggest tractors to the smartest ways to manage your crops. Each year
 , we bring together over 40,000 people who live and breathe farming ju
 st like you do. \r\nMore details coming soon\r\n\r\n\r\n\n\nFor more i
 nformation visit https://ontag.farms.com/events/canada-s-outdoor-farm-
 show-2024
DTSTART;TZID=Pacific/Midway:20240910T000000
DTEND;TZID=Pacific/Midway:20240912T235900
CATEGORIES:farm, show
LOCATION:Woodstock
WEBSITE:
URL:
CONTACT:
ORGANIZER:Canada’s Outdoor Farm Show
ATTACH;FMTTYPE="image/jpeg":https://storage.ning.com/topology/rest/1.0
 /file/get/12345390660?profile=original
ATTENDEE;ROLE=REQ-PARTICIPANT;PARTSTAT=ACCEPTED;RSVP=TRUE;CN="OntAG Ad
 min":https://ontag.farms.com/profile/OntAGAdmin
END:VEVENT
END:VCALENDAR
