BEGIN:VCALENDAR
PRODID:NingEventWidget-v1
VERSION:2.0
METHOD:PUBLISH
BEGIN:VTIMEZONE
TZID:Pacific/Midway
X-LIC-LOCATION:Pacific/Midway
BEGIN:STANDARD
TZOFFSETFROM:-1100
TZOFFSETTO:-1100
TZNAME:SST
DTSTART:19700101T000000
END:STANDARD
END:VTIMEZONE
BEGIN:VEVENT
UID:3646443:Event:73887
DTSTAMP:20260423T161119Z
SUMMARY:Canada’s Outdoor Farm Show
DESCRIPTION:Join more than 40,000 attendees to experience agricultural
  technology and innovation at Canada's foremost outdoor farm event. Th
 is year marks the 25th anniversary of bringing the best and latest in 
 agriculture to the field. See 750 exhibitors showcasing products and s
 ervices through interactive displays and live demonstrations of machin
 ery, livestock, crops, niche markets, energy and much more!\r\nAs a bu
 siness-to-business show dedicated solely to agricultural products, equ
 ipment and services, Canada's Outdoor Farm Show delivers agricultural 
 advancements that will help Canadian farmers continue to produce high-
 quality and safe food competitively.\n\nFor more information visit htt
 ps://ontag.farms.com/events/canada-s-outdoor-farm-show-3
DTSTART;TZID=Pacific/Midway:20180911T000000
DTEND;TZID=Pacific/Midway:20180913T235900
CATEGORIES:farm, show
LOCATION:Canada's Outdoor Park,
WEBSITE:https://www.outdoorfarmshow.com/
URL:https://www.outdoorfarmshow.com/
CONTACT:1-800-563-5441
ORGANIZER;CN="OntAG Admin":https://ontag.farms.com/profile/OntAGAdmin
ATTACH;FMTTYPE="image/jpeg":http://storage.ning.com/topology/rest/1.0/
 file/get/1091553231?profile=original
ATTENDEE;ROLE=REQ-PARTICIPANT;PARTSTAT=ACCEPTED;RSVP=TRUE;CN="OntAG Ad
 min":https://ontag.farms.com/profile/OntAGAdmin
END:VEVENT
END:VCALENDAR
