BEGIN:VCALENDAR
PRODID:NingEventWidget-v1
VERSION:2.0
METHOD:PUBLISH
BEGIN:VTIMEZONE
TZID:Pacific/Midway
X-LIC-LOCATION:Pacific/Midway
BEGIN:STANDARD
TZOFFSETFROM:-1100
TZOFFSETTO:-1100
TZNAME:SST
DTSTART:19700101T000000
END:STANDARD
END:VTIMEZONE
BEGIN:VEVENT
UID:3646443:Event:106334
DTSTAMP:20260421T183907Z
SUMMARY:Canada’s Outdoor Farm Show (COFS) -Outdoor Dairy Days
DESCRIPTION:For over 25 years, farmers have attended Canada’s Outdoo
 r Farm Show to learn about the newest and most innovative products and
  technology in agriculture. In 2020 and 2021, during the global pandem
 ic, Canada’s Outdoor Farm Show moved to an online digital platform t
 o continue to bring farmers relevant news and updates that could benef
 it their operations.  In September 2021, two small-scale in-person eve
 nts will be held on the Discovery Farm site in Woodstock, Ontario, hom
 e of Canada’s Outdoor Farm Show. Outdoor Dairy Days is on September 
 21 & 22, 2021 and Crop Stop is on September 23 & 24, 2021, following O
 ntario’s public health guidelines of the day.  More information will
  be on Website  To buy tickets Please click here  \n\nFor more informa
 tion visit https://ontag.farms.com/events/canada-s-outdoor-farm-show-c
 ofs-is-the-nation-s-premier-outdoor-a
DTSTART;TZID=Pacific/Midway:20210921T083000
DTEND;TZID=Pacific/Midway:20210922T173000
CATEGORIES:farm, show
LOCATION:744906 Oxford Road 17
WEBSITE:https://www.outdoorfarmshow.com/
URL:https://www.outdoorfarmshow.com/
CONTACT:519-539-8337
ORGANIZER:Glacier FarmMedia Limited
ATTACH;FMTTYPE="image/jpeg":https://storage.ning.com/topology/rest/1.0
 /file/get/8893138078?profile=original
ATTENDEE;ROLE=REQ-PARTICIPANT;PARTSTAT=ACCEPTED;RSVP=TRUE;CN="OntAG Ad
 min":https://ontag.farms.com/profile/OntAGAdmin
END:VEVENT
END:VCALENDAR
