BEGIN:VCALENDAR
PRODID:NingEventWidget-v1
VERSION:2.0
METHOD:PUBLISH
BEGIN:VTIMEZONE
TZID:Pacific/Midway
X-LIC-LOCATION:Pacific/Midway
BEGIN:STANDARD
TZOFFSETFROM:-1100
TZOFFSETTO:-1100
TZNAME:SST
DTSTART:19700101T000000
END:STANDARD
END:VTIMEZONE
BEGIN:VEVENT
UID:3646443:Event:31983
DTSTAMP:20260422T012122Z
SUMMARY:Canada's Outdoor Farm Show
DESCRIPTION:CANADA’S OUTDOOR FARM SHOW IS “ON A ROLL” WITH FIVE
  MONTHS TO GO!\n\nApril 11, 2012 – Everyone’s thoughts are on this
  early spring weather and the itch to get out on the field. But in fiv
 e short months, Canada’s Outdoor Farm Show presented by Farm Credit 
 Canada will again roll out a wonderland of new technologies and live d
 emonstrations with crops, machinery and livestock.\n\nREAD MORE\n\nFor
  more information visit https://ontag.farms.com/events/canada-s-outdoo
 r-farm-show
DTSTART;TZID=Pacific/Midway:20120911T000000
DTEND;TZID=Pacific/Midway:20120913T235900
CATEGORIES:farm, show
LOCATION:Canada's Outdoor Park
WEBSITE:http://www.outdoorfarmshow.com/
URL:http://www.outdoorfarmshow.com/
CONTACT:
ORGANIZER:Canada's Outdoor Farm Show
ATTACH;FMTTYPE="image/jpeg":http://storage.ning.com/topology/rest/1.0/
 file/get/1091516270?profile=original
ATTENDEE;ROLE=REQ-PARTICIPANT;PARTSTAT=ACCEPTED;RSVP=TRUE;CN=Roadrunne
 r:https://ontag.farms.com/profile/Roadrunner
ATTENDEE;ROLE=REQ-PARTICIPANT;PARTSTAT=ACCEPTED;RSVP=TRUE;CN="Joe Dale
 s":https://ontag.farms.com/profile/JoeDales
ATTENDEE;ROLE=REQ-PARTICIPANT;PARTSTAT=ACCEPTED;RSVP=TRUE;CN="OntAG Ad
 min":https://ontag.farms.com/profile/OntAGAdmin
ATTENDEE;ROLE=REQ-PARTICIPANT;PARTSTAT=TENTATIVE;RSVP=TRUE;CN="Richard
  Hamilton":https://ontag.farms.com/profile/RichardHamilton
END:VEVENT
END:VCALENDAR
