BEGIN:VCALENDAR
PRODID:NingEventWidget-v1
VERSION:2.0
METHOD:PUBLISH
BEGIN:VTIMEZONE
TZID:Pacific/Midway
X-LIC-LOCATION:Pacific/Midway
BEGIN:STANDARD
TZOFFSETFROM:-1100
TZOFFSETTO:-1100
TZNAME:SST
DTSTART:19700101T000000
END:STANDARD
END:VTIMEZONE
BEGIN:VEVENT
UID:3646443:Event:17701
DTSTAMP:20260421T141211Z
SUMMARY:Canada’s Outdoor Equine Expo
DESCRIPTION:Canada’s Outdoor Equine Expo will be held on June 10, 11
  and 12, 2011 at Iron Horse Equestrian Complex in Burlington, ON. Clic
 k here for more information\n\nFor more information visit https://onta
 g.farms.com/events/canadas-outdoor-equine-expo-1
DTSTART;TZID=Pacific/Midway:20110610T000000
DTEND;TZID=Pacific/Midway:20110612T235900
CATEGORIES:equine, expo
LOCATION:Iron Horse Equestrian Complex in Burlington, ON
WEBSITE:http://www.equineexpo.ca/
URL:http://www.equineexpo.ca/
CONTACT:
ORGANIZER:Canada’s Outdoor Equine Expo
ATTACH;FMTTYPE="image/jpeg":http://storage.ning.com/topology/rest/1.0/
 file/get/1091514288?profile=original
ATTENDEE;ROLE=REQ-PARTICIPANT;PARTSTAT=ACCEPTED;RSVP=TRUE;CN="OntAG Ad
 min":https://ontag.farms.com/profile/OntAGAdmin
END:VEVENT
END:VCALENDAR
