BEGIN:VCALENDAR
PRODID:NingEventWidget-v1
VERSION:2.0
METHOD:PUBLISH
BEGIN:VTIMEZONE
TZID:Pacific/Midway
X-LIC-LOCATION:Pacific/Midway
BEGIN:STANDARD
TZOFFSETFROM:-1100
TZOFFSETTO:-1100
TZNAME:SST
DTSTART:19700101T000000
END:STANDARD
END:VTIMEZONE
BEGIN:VEVENT
UID:3646443:Event:4604
DTSTAMP:20260423T100649Z
SUMMARY:Canada's Outdoor Farm Show
DESCRIPTION:Outdoor Farm Show Date - September 14,2010 to March 16, 20
 10 Time - 1:00 PM Place - Woodstock Canada's Outdoor Park Website - ht
 tp://www.outdoorfarmshow.com/\n\nFor more information visit https://on
 tag.farms.com/events/canadas-outdoor-farm-show-1
DTSTART;TZID=Pacific/Midway:20100914T000000
DTEND;TZID=Pacific/Midway:20100916T235900
CATEGORIES:farm, show
LOCATION:Woodstock Canada's Outdoor Park
WEBSITE:http://www.outdoorfarmshow.com/
URL:http://www.outdoorfarmshow.com/
CONTACT:
ORGANIZER:Outdoor Farm Show
ATTACH;FMTTYPE="image/jpeg":http://storage.ning.com/topology/rest/1.0/
 file/get/1091506279?profile=original
ATTENDEE;ROLE=REQ-PARTICIPANT;PARTSTAT=ACCEPTED;RSVP=TRUE;CN="Manon Ge
 rmain":https://ontag.farms.com/profile/ManonGermain
ATTENDEE;ROLE=REQ-PARTICIPANT;PARTSTAT=ACCEPTED;RSVP=TRUE;CN="Michael 
 Dales":https://ontag.farms.com/profile/MichaelDales
ATTENDEE;ROLE=REQ-PARTICIPANT;PARTSTAT=ACCEPTED;RSVP=TRUE;CN="Mackenna
  Roth":https://ontag.farms.com/profile/MackennaRoth
ATTENDEE;ROLE=REQ-PARTICIPANT;PARTSTAT=ACCEPTED;RSVP=TRUE;CN="Stefanie
  Nagelschmitz":https://ontag.farms.com/profile/StefanieNagelschmitz
ATTENDEE;ROLE=REQ-PARTICIPANT;PARTSTAT=ACCEPTED;RSVP=TRUE;CN="Jenny Va
 n Rooy":https://ontag.farms.com/profile/JennyVanRooy
ATTENDEE;ROLE=REQ-PARTICIPANT;PARTSTAT=ACCEPTED;RSVP=TRUE;CN=AgOntario
 :https://ontag.farms.com/profile/AgOntario
ATTENDEE;ROLE=REQ-PARTICIPANT;PARTSTAT=TENTATIVE;RSVP=TRUE;CN="Richard
  Hamilton":https://ontag.farms.com/profile/RichardHamilton
END:VEVENT
END:VCALENDAR
