BEGIN:VCALENDAR
PRODID:NingEventWidget-v1
VERSION:2.0
METHOD:PUBLISH
BEGIN:VTIMEZONE
TZID:Pacific/Midway
X-LIC-LOCATION:Pacific/Midway
BEGIN:STANDARD
TZOFFSETFROM:-1100
TZOFFSETTO:-1100
TZNAME:SST
DTSTART:19700101T000000
END:STANDARD
END:VTIMEZONE
BEGIN:VEVENT
UID:3646443:Event:18979
DTSTAMP:20260422T005920Z
SUMMARY:Canada's Outdoor Farm Show
DESCRIPTION: \n\nFor more information visit https://ontag.farms.com/ev
 ents/canadas-outdoor-farm-show-2
DTSTART;TZID=Pacific/Midway:20110913T000000
DTEND;TZID=Pacific/Midway:20110915T235900
CATEGORIES:farm, show
LOCATION:Canada's Outdoor Park, Woodstock
WEBSITE:http://www.outdoorfarmshow.com
URL:http://www.outdoorfarmshow.com
CONTACT:info@outdoorfarmshow.com
ORGANIZER:COFS
ATTACH;FMTTYPE="image/jpeg":http://storage.ning.com/topology/rest/1.0/
 file/get/1091511940?profile=original
ATTENDEE;ROLE=REQ-PARTICIPANT;PARTSTAT=ACCEPTED;RSVP=TRUE;CN="Cindy Fi
 lmore":https://ontag.farms.com/profile/CindyFilmore
ATTENDEE;ROLE=REQ-PARTICIPANT;PARTSTAT=ACCEPTED;RSVP=TRUE;CN="Eveliene
  Kusters":https://ontag.farms.com/profile/EvelieneKusters
ATTENDEE;ROLE=REQ-PARTICIPANT;PARTSTAT=ACCEPTED;RSVP=TRUE;CN="OntAG Ad
 min":https://ontag.farms.com/profile/OntAGAdmin
ATTENDEE;ROLE=REQ-PARTICIPANT;PARTSTAT=TENTATIVE;RSVP=TRUE;CN="robert 
 reid":https://ontag.farms.com/profile/robertreid
ATTENDEE;ROLE=REQ-PARTICIPANT;PARTSTAT=TENTATIVE;RSVP=TRUE;CN="Richard
  Hamilton":https://ontag.farms.com/profile/RichardHamilton
END:VEVENT
END:VCALENDAR
