BEGIN:VCALENDAR
PRODID:NingEventWidget-v1
VERSION:2.0
METHOD:PUBLISH
BEGIN:VTIMEZONE
TZID:Pacific/Midway
X-LIC-LOCATION:Pacific/Midway
BEGIN:STANDARD
TZOFFSETFROM:-1100
TZOFFSETTO:-1100
TZNAME:SST
DTSTART:19700101T000000
END:STANDARD
END:VTIMEZONE
BEGIN:VEVENT
UID:3646443:Event:115463
DTSTAMP:20260419T154726Z
SUMMARY:Canadian Agri-food & Rural Advisory, Extension, and Education 
 (CAREE) Conference
DESCRIPTION:1st International Conference on Canadian Agri-food & Rural
  Advisory, Extension, and Education (CAREE)\r\n\r\nThe conference focu
 ses on the following topics to explore concepts, frameworks, methods, 
 tools, experiences, and empirical evidence related to the transformati
 ve processes of the agri-food system and rural development.Topics:1: P
 olicy, Approaches, Trends, and Evidence-based Action2: Digitalization 
 and Responsible Use of AI in Advisory Services and Education3: Indigen
 ous and Northern Development, Social Inclusion, and Well-being of Agri
 cultural and Rural Communities4: Extension, Education, and Institution
 al Capacity for Driving Agri-food Systems Transformation5: Extension a
 nd Advisory to Facilitate Entrepreneurship, Bio-economy, Food Safety, 
 Agro-ecology, Animal Welfare, and Resilience to Climate Change6: Exten
 sion, Media, Rural and Risk Communication Servicesconference will help
  us get some insights into the overarching questions: What does agri-f
 ood & rural advisory and extension look like across Canada? Is it wort
 hwhile to work on this topic, especially considering our global and re
 gional reputation? What is the rigour and value of this discipline for
  those supporting agri-food systems and rural development? \n\nFor mor
 e information visit https://ontag.farms.com/events/canadian-agri-food-
 rural-advisory-extension-and-education-caree-c
DTSTART;TZID=Pacific/Midway:20251029T203000
DTEND;TZID=Pacific/Midway:20251031T173000
CATEGORIES:conference
LOCATION:124 Reynolds Walk
WEBSITE:https://caree.ca/registration/
URL:https://caree.ca/registration/
CONTACT:519-824-4120 ext. 52251
ORGANIZER:University of Guelph
ATTACH;FMTTYPE="image/jpeg":https://storage.ning.com/topology/rest/1.0
 /file/get/13717500259?profile=original
ATTENDEE;ROLE=REQ-PARTICIPANT;PARTSTAT=ACCEPTED;RSVP=TRUE;CN="OntAG Ad
 min":https://ontag.farms.com/profile/OntAGAdmin
END:VEVENT
END:VCALENDAR
