BEGIN:VCALENDAR
PRODID:NingEventWidget-v1
VERSION:2.0
METHOD:PUBLISH
BEGIN:VTIMEZONE
TZID:Pacific/Midway
X-LIC-LOCATION:Pacific/Midway
BEGIN:STANDARD
TZOFFSETFROM:-1100
TZOFFSETTO:-1100
TZNAME:SST
DTSTART:19700101T000000
END:STANDARD
END:VTIMEZONE
BEGIN:VEVENT
UID:3646443:Event:55819
DTSTAMP:20260420T060619Z
SUMMARY:CRFA's Canadian Bioeconomy Conference
DESCRIPTION:\n OTTAWA - The Canadian Bioeconomy Conference taking plac
 e Dec. 1-3, 2014 in Toronto, Ontario, announced its preliminary agenda
  this week. This is the 11th annual conference from the Canadian Renew
 able Fuels Association (CRFA) and is expanding in focus to include com
 prehensive program tracks on both renewable fuels and the emerging bio
 economy.\nProgram topics and speakers include:\n\nFair Market Value fo
 r GHG Reductions\nGrowing Market Access\nPromoting Investment in Canad
 a’s Innovation Sector\nEmerging Markets – Accessing Global Markets
 \nDelivering Modern Fuel Blends to Consumers Increased Domestic Use of
  Advanced Fuels\nKeynote Speaker: Jeffrey Simpson, Author and Columnis
 t, Globe and Mail\n\n\"The annual Canadian Bioeconomy Conference will 
 bring together the entire value chain of the biofuels industry,” sai
 d Deborah Elson, CRFA Vice President Membership, Stakeholder Relations
  and Industry Promotions. \"This expanded agenda reflects the natural 
 transition and ever-evolving nature of the Canadian renewable fuels in
 dustry and will build upon the recommendations outlined in the CRFA’
 s new vision and action plan Evolution and Growth.”\nOver 300 profes
 sionals from North America are expected to attend including leading pe
 troleum, ethanol and biodiesel companies, trade suppliers, government 
 officials and members of the finance and investment industries. \nCRF
 A is also pleased to announce partnerships with some of the country’
 s foremost voices on biofuels and the bioeconomy, including BIOTECanad
 a, BioTalent, Canadian Agricultural Human Resource Council, CanBio, th
 e Forest Products Association of Canada, and IEA Bioenergy Task 42.\n\
 nFor more information visit https://ontag.farms.com/events/canadian-bi
 oeconomy-conference
DTSTART;TZID=Pacific/Midway:20141201T000000
DTEND;TZID=Pacific/Midway:20141202T235900
CATEGORIES:conference
LOCATION:Westin Harbour Castle
WEBSITE:http://www.greenfuels.org/en/industry-information/conference.a
 spx
URL:http://www.greenfuels.org/en/industry-information/conference.aspx
CONTACT:
ORGANIZER:Canadian Renewable Fuels Association (CRFA)
ATTACH;FMTTYPE="image/jpeg":http://storage.ning.com/topology/rest/1.0/
 file/get/1091529678?profile=original
ATTENDEE;ROLE=REQ-PARTICIPANT;PARTSTAT=ACCEPTED;RSVP=TRUE;CN="OntAG Ad
 min":https://ontag.farms.com/profile/OntAGAdmin
END:VEVENT
END:VCALENDAR
