BEGIN:VCALENDAR
PRODID:NingEventWidget-v1
VERSION:2.0
METHOD:PUBLISH
BEGIN:VTIMEZONE
TZID:Pacific/Midway
X-LIC-LOCATION:Pacific/Midway
BEGIN:STANDARD
TZOFFSETFROM:-1100
TZOFFSETTO:-1100
TZNAME:SST
DTSTART:19700101T000000
END:STANDARD
END:VTIMEZONE
BEGIN:VEVENT
UID:3646443:Event:115763
DTSTAMP:20260422T205644Z
SUMMARY:Canadian Dairy XPO
DESCRIPTION:Situated in the heart of Ontario’s leading dairy region,
  the Canadian Dairy XPO (CDX) is Canada’s largest dairy industry sho
 wcase. Each year, more than 300 exhibiting companies from around the w
 orld present their latest innovations to over 17,000 professional atte
 ndees – producers and their families from across Canada and the Unit
 ed States.\n\nFor more information visit https://ontag.farms.com/event
 s/canadian-dairy-xpo-1
DTSTART;TZID=Pacific/Midway:20260401T090000
DTEND;TZID=Pacific/Midway:20260402T160000
CATEGORIES:expo
LOCATION:Stratford,
WEBSITE:https://canadiandairyxpo.ca/
URL:https://canadiandairyxpo.ca/
CONTACT:1.855.265.8300
ORGANIZER:DLG Markets North America,
ATTACH;FMTTYPE="image/jpeg":https://storage.ning.com/topology/rest/1.0
 /file/get/13723649460?profile=original
ATTENDEE;ROLE=REQ-PARTICIPANT;PARTSTAT=ACCEPTED;RSVP=TRUE;CN="OntAG Ad
 min":https://ontag.farms.com/profile/OntAGAdmin
END:VEVENT
END:VCALENDAR
