BEGIN:VCALENDAR
PRODID:NingEventWidget-v1
VERSION:2.0
METHOD:PUBLISH
BEGIN:VTIMEZONE
TZID:Pacific/Midway
X-LIC-LOCATION:Pacific/Midway
BEGIN:STANDARD
TZOFFSETFROM:-1100
TZOFFSETTO:-1100
TZNAME:SST
DTSTART:19700101T000000
END:STANDARD
END:VTIMEZONE
BEGIN:VEVENT
UID:3646443:Event:34727
DTSTAMP:20260422T124818Z
SUMMARY:Canadian Farm Machinery Show
DESCRIPTION:International Farm Equipment Show. Canadian International 
 Farm Show presents latest in farm machinery & services to the agricult
 ural industry anything from Equipment, Feed, Seed, Products & Services
  & also dairy, poultry, flowerticulture & horticulture\n\nFor more inf
 ormation visit https://ontag.farms.com/events/canadian-farm-machinery-
 show
DTSTART;TZID=Pacific/Midway:20130205T080000
DTEND;TZID=Pacific/Midway:20130207T200000
CATEGORIES:machinery
LOCATION:Toronto International Centre
WEBSITE:
URL:
CONTACT:+1 (905) 677-6131
ORGANIZER;CN="OntAG Admin":https://ontag.farms.com/profile/OntAGAdmin
ATTACH;FMTTYPE="image/jpeg":http://storage.ning.com/topology/rest/1.0/
 file/get/1091521848?profile=original
ATTENDEE;ROLE=REQ-PARTICIPANT;PARTSTAT=ACCEPTED;RSVP=TRUE;CN="OntAG Ad
 min":https://ontag.farms.com/profile/OntAGAdmin
END:VEVENT
END:VCALENDAR
