BEGIN:VCALENDAR
PRODID:NingEventWidget-v1
VERSION:2.0
METHOD:PUBLISH
BEGIN:VTIMEZONE
TZID:Pacific/Midway
X-LIC-LOCATION:Pacific/Midway
BEGIN:STANDARD
TZOFFSETFROM:-1100
TZOFFSETTO:-1100
TZNAME:SST
DTSTART:19700101T000000
END:STANDARD
END:VTIMEZONE
BEGIN:VEVENT
UID:3646443:Event:80385
DTSTAMP:20260422T050152Z
SUMMARY:Canadian Federation of Agriculture Virtual AGM
DESCRIPTION:The Canadian Federation of Agriculture will be hosting the
 ir Annual General Meeting on a virtual platform February 24 – 25, 20
 21. Further details will be released leading up to the event.\n\nFor m
 ore information visit https://ontag.farms.com/events/canadian-federati
 on-of-agriculture-virtual-agm
DTSTART;TZID=Pacific/Midway:20210224T000000
DTEND;TZID=Pacific/Midway:20210225T235900
CATEGORIES:conference
LOCATION:Online
WEBSITE:https://www.cfa-fca.ca/
URL:https://www.cfa-fca.ca/
CONTACT:
ORGANIZER:Canadian Federation of Agriculture
ATTACH;FMTTYPE="image/jpeg":
ATTENDEE;ROLE=REQ-PARTICIPANT;PARTSTAT=ACCEPTED;RSVP=TRUE;CN="OntAG Ad
 min":https://ontag.farms.com/profile/OntAGAdmin
END:VEVENT
END:VCALENDAR
