BEGIN:VCALENDAR
PRODID:NingEventWidget-v1
VERSION:2.0
METHOD:PUBLISH
BEGIN:VTIMEZONE
TZID:Pacific/Midway
X-LIC-LOCATION:Pacific/Midway
BEGIN:STANDARD
TZOFFSETFROM:-1100
TZOFFSETTO:-1100
TZNAME:SST
DTSTART:19700101T000000
END:STANDARD
END:VTIMEZONE
BEGIN:VEVENT
UID:3646443:Event:57823
DTSTAMP:20260424T093025Z
SUMMARY:Canadian Forage and Grassland Association Conference and AGM
DESCRIPTION:Our premier hay, straw and forage products, exceptional pr
 oducers, and our abundant forage and grassland resources power Canada'
 s beef and dairy sector. However, reduced focus on forage research and
  development, coupled with increasing returns for annual crops and the
  resulting decrease in forage acreage has negatively impacted the indu
 stry. Transportation costs and logistical issues also have influenced 
 the ability of some provinces to export. Despite this, our dairy secto
 r continues to need high quality hay, straw and forage products and ou
 r rapidly expanding beef industry has similar requirements. As well, o
 ur Canadian exporters have managed to successfully negotiate protocols
  with key importing nations such as the US, UK and the Middle East and
  have consequently increased the potential for forage exports to new m
 arkets.\nOpportunities abound for commercial entrepreneurs and innovat
 ive companies positioned to take advantage of existing and new markets
  within this expanding and dynamic sector of the Canadian economy. Att
 end our annual conference November 18-19, with an optional tour on Nov
 ember 17, in the beautiful Eastern Townships of Québec, to help us co
 ntinue to forge a path forward for our strategic forage and grassland 
 industry. Click Here for More Information\n\n\nFor more information vi
 sit https://ontag.farms.com/events/canadian-forage-and-grassland-assoc
 iation-conference-and-agm
DTSTART;TZID=Pacific/Midway:20141117T070000
DTEND;TZID=Pacific/Midway:20141119T160000
CATEGORIES:confrence, and, agm
LOCATION:Chateau Bromont
WEBSITE:http://www.cvent.com/events/5th-annual-canadian-forage-grassla
 nd-conference/invitation-5d0dbc9520154a33af729b1b8538db15.aspx
URL:http://www.cvent.com/events/5th-annual-canadian-forage-grassland-c
 onference/invitation-5d0dbc9520154a33af729b1b8538db15.aspx
CONTACT:204 254 4192
ORGANIZER:Canadian Forage and Grassland Association
ATTACH;FMTTYPE="image/jpeg":http://storage.ning.com/topology/rest/1.0/
 file/get/1091536520?profile=original
ATTENDEE;ROLE=REQ-PARTICIPANT;PARTSTAT=ACCEPTED;RSVP=TRUE;CN="Ontario 
 Forage Council":https://ontag.farms.com/profile/OntarioForageCouncil40
 3
END:VEVENT
END:VCALENDAR
