BEGIN:VCALENDAR
PRODID:NingEventWidget-v1
VERSION:2.0
METHOD:PUBLISH
BEGIN:VTIMEZONE
TZID:Pacific/Midway
X-LIC-LOCATION:Pacific/Midway
BEGIN:STANDARD
TZOFFSETFROM:-1100
TZOFFSETTO:-1100
TZNAME:SST
DTSTART:19700101T000000
END:STANDARD
END:VTIMEZONE
BEGIN:VEVENT
UID:3646443:Event:3915
DTSTAMP:20260422T053750Z
SUMMARY:Canadian Horticultural Council - Annual General Meeting
DESCRIPTION:Annual General Meeting\nQuébec City, Québec\n\nMarch 2 -
  5, 2010\nWe would like to invite you to the CHC 88th Annual General M
 eeting in Québec City from March 2 - 5, 2010.\n\nFor more information
  visit https://ontag.farms.com/events/canadian-horticultural-council
DTSTART;TZID=Pacific/Midway:20100302T000000
DTEND;TZID=Pacific/Midway:20100305T235900
CATEGORIES:annualgeneralmeeting
LOCATION:Fairmont Le Château Frontenac
WEBSITE:http://www.hortcouncil.ca/en/events/annual-general-meeting.asp
 x
URL:http://www.hortcouncil.ca/en/events/annual-general-meeting.aspx
CONTACT:(613) 226-4880
ORGANIZER:Canadian Horticultural Council
ATTACH;FMTTYPE="image/jpeg":http://storage.ning.com/topology/rest/1.0/
 file/get/1091501214?profile=original
ATTENDEE;ROLE=REQ-PARTICIPANT;PARTSTAT=TENTATIVE;RSVP=TRUE;CN=AgOntari
 o:https://ontag.farms.com/profile/AgOntario
END:VEVENT
END:VCALENDAR
