BEGIN:VCALENDAR
PRODID:NingEventWidget-v1
VERSION:2.0
METHOD:PUBLISH
BEGIN:VTIMEZONE
TZID:Pacific/Midway
X-LIC-LOCATION:Pacific/Midway
BEGIN:STANDARD
TZOFFSETFROM:-1100
TZOFFSETTO:-1100
TZNAME:SST
DTSTART:19700101T000000
END:STANDARD
END:VTIMEZONE
BEGIN:VEVENT
UID:3646443:Event:3558
DTSTAMP:20260421T173812Z
SUMMARY:Canadian International Farm Show
DESCRIPTION:Toronto's International Centre will be the backdrop for th
 e Largest Indoor Farm and Equipment Show in Canada!\n\nThe 24th Editio
 n of The Canadian International Farm Show is still riding the wave of 
 success from 2009, which was the first year for new owners, Master Pro
 motions. Over 20,000 visitors came through the doors during last yearâ
 €™s 3-day event and with the buzz and excitement already building, we 
 are confident those numbers will be even larger for 2010!\n\nIf your b
 usiness is supplying products, machinery, services, equipment or techn
 ology to Canadaâ€™s farming industry, this is the show for you! Big Ir
 on, the latest technology, equipment and services will be featured, an
 d you can position your company as an industry leader by exhibiting yo
 ur company or product at this premiere venue! Be part of our huge mark
 eting and advertising campaign, which will bring the qualified buyers 
 with purchasing power directly to your booth.\n\nSHOW HOURS\n\nWed, Fe
 b 17th, 2010\n9:00am - 4:30pm\n\nThu, Feb 18th, 2010\n9:00am - 4:30pm\
 n\nFri, Feb 19th, 2010\n9:00am - 4:30pm\n\nFor more information visit 
 https://ontag.farms.com/events/canadian-international-farm
DTSTART;TZID=Pacific/Midway:20100217T000000
DTEND;TZID=Pacific/Midway:20100219T235900
CATEGORIES:farm, show
LOCATION:Toronto's International Centre
WEBSITE:http://www.masterpromotions.ca/canadian-farm-show.asp
URL:http://www.masterpromotions.ca/canadian-farm-show.asp
CONTACT:Toll Free:  888-454-7469     or  Email info@mpltd.ca
ORGANIZER:Master Promotions Ltd.
ATTACH;FMTTYPE="image/jpeg":http://storage.ning.com/topology/rest/1.0/
 file/get/1091501539?profile=original
ATTENDEE;ROLE=REQ-PARTICIPANT;PARTSTAT=ACCEPTED;RSVP=TRUE;CN="Joe Dale
 s":https://ontag.farms.com/profile/JoeDales
END:VEVENT
END:VCALENDAR
