BEGIN:VCALENDAR
PRODID:NingEventWidget-v1
VERSION:2.0
METHOD:PUBLISH
BEGIN:VTIMEZONE
TZID:Pacific/Midway
X-LIC-LOCATION:Pacific/Midway
BEGIN:STANDARD
TZOFFSETFROM:-1100
TZOFFSETTO:-1100
TZNAME:SST
DTSTART:19700101T000000
END:STANDARD
END:VTIMEZONE
BEGIN:VEVENT
UID:3646443:Event:53207
DTSTAMP:20260422T110232Z
SUMMARY:Canadian Plowing Championships Aug. 14 to 16 near London, Onta
 rio
DESCRIPTION:\nThe Canadian Plowing Championships will take place Aug. 
 14-16 a few concession roads east of London, at Purple Hill Farm and i
 s expected to draw some of the best attractions of old-time farming ro
 ots: horse-drawn plows, spinning and weaving demonstrations and thresh
 ing machinery.\nBut it's not intended to be just a blast from the regi
 on's agricultural past, said CanPlow organizer Donna Telfer of Paris, 
 Ont.\n“We want to make this a into a real attraction, far bigger tha
 n it has ever been,” Telfer said. “That is why we are making a spe
 cial effort to attract a group of exhibits that will help educate urba
 n folks about the importance of the farm community in producing the lo
 cally-grown fresh food that is so much in demand by urban shoppers,”
  as well as other exhibits showcasing the best of the attractions with
 in an easy drive of Southwestern Ontario residents.\nUnlike the Intern
 ational Plowing Match, a rural expo that features plowing as well as s
 ome of the shiniest technology available, CanPlow is a more intimate e
 vent.\nIt will take place at the century homestead of George Taylor, s
 ix kilometres east of London International Airport, at Purple Hill Far
 m and at two adjacent farms.\nCanPlow 2014:\nAug. 14-16, 8:30 a.m.\n--
 Purple Hill Farms; 20903 Purple Hill Road, 10 km. east of London (nort
 h of Hwy 2)\nadmission $5, children admitted free (more info: 1-877-46
 4-1200 (toll free).\n– horse-drawn and tractor-drawn plowing competi
 tions with contestants from four provinces: British Columbia, Manitoba
 , Ontario, New Brunswick; local food expo; spinning/weaving demonstrat
 ions; old-time clog dancing; antique tractor display and thresher demo
 nstrations; Victoria-era lingerie display; genealogy display with tips
  for tracking family histories; chain-saw sculpture. \n\nFor more inf
 ormation visit https://ontag.farms.com/events/canadian-plowing-champio
 nships-set-for-aug-14-to-16-near-london-o
DTSTART;TZID=Pacific/Midway:20140814T000000
DTEND;TZID=Pacific/Midway:20140816T235900
CATEGORIES:plowing, championships
LOCATION:east of London, at Purple Hill Farm
WEBSITE:http://www.canadianplowing.ca/CPO_-_Events.html
URL:http://www.canadianplowing.ca/CPO_-_Events.html
CONTACT:
ORGANIZER:The Canadian Plowing Organization
ATTACH;FMTTYPE="image/jpeg":http://storage.ning.com/topology/rest/1.0/
 file/get/1091523780?profile=original
ATTENDEE;ROLE=REQ-PARTICIPANT;PARTSTAT=ACCEPTED;RSVP=TRUE;CN="OntAG Ad
 min":https://ontag.farms.com/profile/OntAGAdmin
END:VEVENT
END:VCALENDAR
