BEGIN:VCALENDAR
PRODID:NingEventWidget-v1
VERSION:2.0
METHOD:PUBLISH
BEGIN:VTIMEZONE
TZID:Pacific/Midway
X-LIC-LOCATION:Pacific/Midway
BEGIN:STANDARD
TZOFFSETFROM:-1100
TZOFFSETTO:-1100
TZNAME:SST
DTSTART:19700101T000000
END:STANDARD
END:VTIMEZONE
BEGIN:VEVENT
UID:3646443:Event:6628
DTSTAMP:20260421T151810Z
SUMMARY:Canadian Renewable Fuels Summit
DESCRIPTION:The Canadian Renewable Fuels Association (CRFA) is hosting
  its 7th Annual Summit in Canadaâ€™s National Capital Region â€“ Ottaw
 a / Gatineau from November 29 â€“ December 1, 2010 at the Hilton Lac L
 eamy Hotel. This yearâ€™s theme is Growing Beyond Oil: Delivering Cana
 daâ€™s Energy Future and will once again be the premier Canadian confe
 rence for the ethanol and biodiesel industries. The Summit attracts pa
 rticipants from across North America and is open to members and non-me
 mbers alike. It attracts an audience of roughly 450 participants, draw
 ing from all corners of the ethanol and biodiesel industries, includin
 g grain and cellulose ethanol producers, biodiesel producers, Canadaâ€
 ™s leading petroleum companies and agriculture associations.\n\nCanada
  is now a frontrunner in the worldwide effort to create clean, renewab
 le sources of transportation fuel. The benefits of this approach are m
 any. From an economic standpoint, our industry generates $2 billion in
  economic activity each and every year and has created more than 14,00
 0 jobs in total â€“ most of those in rural Canada. At the same time, r
 enewable fuels production will help to reduce GHG emissions by over 4.
 2 mega-tonnes. This is the equivalent of taking over 1 million cars of
 f the road each and every year.\n\nFor more information visit https://
 ontag.farms.com/events/canadian-renewable-fuels
DTSTART;TZID=Pacific/Midway:20101129T170000
DTEND;TZID=Pacific/Midway:20101201T130000
CATEGORIES:conference
LOCATION:National Capital Region
WEBSITE:http://www.greenfuels.org/en/industry-information/summit.aspx
URL:http://www.greenfuels.org/en/industry-information/summit.aspx
CONTACT:613-594-5528
ORGANIZER:Canadian Renewable Fuels Association
ATTACH;FMTTYPE="image/jpeg":http://storage.ning.com/topology/rest/1.0/
 file/get/1091503662?profile=original
ATTENDEE;ROLE=REQ-PARTICIPANT;PARTSTAT=ACCEPTED;RSVP=TRUE;CN="Lindsey 
 Ehman":https://ontag.farms.com/profile/LindseyEhman
END:VEVENT
END:VCALENDAR
