BEGIN:VCALENDAR
PRODID:NingEventWidget-v1
VERSION:2.0
METHOD:PUBLISH
BEGIN:VTIMEZONE
TZID:Pacific/Midway
X-LIC-LOCATION:Pacific/Midway
BEGIN:STANDARD
TZOFFSETFROM:-1100
TZOFFSETTO:-1100
TZNAME:SST
DTSTART:19700101T000000
END:STANDARD
END:VTIMEZONE
BEGIN:VEVENT
UID:3646443:Event:18378
DTSTAMP:20260422T040216Z
SUMMARY:Canadian Seed Growers' Association AGM
DESCRIPTION:The Canadian Seed Growers' Association will be holding its
  107th Annual General meeting at the Sheraton Hamilton Hotel in Hamilt
 on Ontario July 6 - 8, 2011. The theme for the 2011 meeting is \"Speak
 ing Up.\" Qualified guest speakers will \"Speak Up\" for private and p
 ublic partnerships in variety development, for increased partnerships 
 with seed growers and for use of social media when talking agriculture
  with consumers.\n\nGrowers' Program\nPartners' and Children's Program
 \nHotel Information\nRegistration     \n\n\nFor more information 
 visit https://ontag.farms.com/events/canadian-seed-growers
DTSTART;TZID=Pacific/Midway:20110706T000000
DTEND;TZID=Pacific/Midway:20110708T235900
CATEGORIES:annual, general, meeting
LOCATION:Sheraton Hamilton
WEBSITE:http://www.seedgrowers.ca/meetingsandevents/annual_meeting.asp
URL:http://www.seedgrowers.ca/meetingsandevents/annual_meeting.asp
CONTACT:
ORGANIZER:CSTA
ATTACH;FMTTYPE="image/jpeg":
ATTENDEE;ROLE=REQ-PARTICIPANT;PARTSTAT=ACCEPTED;RSVP=TRUE;CN="OntAG Ad
 min":https://ontag.farms.com/profile/OntAGAdmin
END:VEVENT
END:VCALENDAR
