BEGIN:VCALENDAR
PRODID:NingEventWidget-v1
VERSION:2.0
METHOD:PUBLISH
BEGIN:VTIMEZONE
TZID:Pacific/Midway
X-LIC-LOCATION:Pacific/Midway
BEGIN:STANDARD
TZOFFSETFROM:-1100
TZOFFSETTO:-1100
TZNAME:SST
DTSTART:19700101T000000
END:STANDARD
END:VTIMEZONE
BEGIN:VEVENT
UID:3646443:Event:795
DTSTAMP:20260425T100420Z
SUMMARY:Canadian Senior Managers in Agriculture Human Resources Roundt
 able
DESCRIPTION:NEW THIS YEAR -- A new twist on our annual Ag HR Roundtabl
 e. The usual great content and networking opportunity in a shorter, mo
 re brief conference. Plus, we are holding two events in different loca
 tions across Canada to help lessen the travel burden. The Canadian Sen
 ior Managers in Agriculture HR Roundtable is open to all managers and 
 human resource professionals as well as career services and associatio
 n representatives within the agriculture and food industries in Canada
 . During the conference we'll discuss high interest issues and discove
 r actionable tactics to improve recruitment and retention within the a
 griculture industry. Join your peers and sign up for the Canadian Seni
 or Managers in Agriculture Human Resources Roundtable nearest you!\n\n
 For more information visit https://ontag.farms.com/events/canadian-sen
 ior-managers-in
DTSTART;TZID=Pacific/Midway:20091020T000000
DTEND;TZID=Pacific/Midway:20091020T235900
CATEGORIES:conference
LOCATION:Delta Hotel
WEBSITE:http://www.agcareers.com/conferences.cfm
URL:http://www.agcareers.com/conferences.cfm
CONTACT:1 877 438 5729 ext 5018
ORGANIZER;CN="Amelia Taylor":https://ontag.farms.com/profile/AmeliaTay
 lor
ATTACH;FMTTYPE="image/jpeg":http://storage.ning.com/topology/rest/1.0/
 file/get/1091498442?profile=original
ATTENDEE;ROLE=REQ-PARTICIPANT;PARTSTAT=ACCEPTED;RSVP=TRUE;CN="Amelia T
 aylor":https://ontag.farms.com/profile/AmeliaTaylor
END:VEVENT
END:VCALENDAR
