BEGIN:VCALENDAR
PRODID:NingEventWidget-v1
VERSION:2.0
METHOD:PUBLISH
BEGIN:VTIMEZONE
TZID:Pacific/Midway
X-LIC-LOCATION:Pacific/Midway
BEGIN:STANDARD
TZOFFSETFROM:-1100
TZOFFSETTO:-1100
TZNAME:SST
DTSTART:19700101T000000
END:STANDARD
END:VTIMEZONE
BEGIN:VEVENT
UID:3646443:Event:59140
DTSTAMP:20260419T085334Z
SUMMARY:Canadian Total Excellence in Agricultural Management (CTEAM)
DESCRIPTION:\n \nContact Name:\nAlberta: Heather Broughton; Ontario: 
 Larry Martin \nContact Phone:\nAlberta: 780-781-2840; Ontario: 519-84
 1-1698 \nContact Email:\nsheryn@agrifoodtraining.com \nOrganization:
 \nAgri-Food Management Excellence; Farm Management Canada\n \nLocatio
 n:\nAbbotsford, BC\n \nEvent Details:\nCTEAM is designed specificall
 y for producers and ranchers.\n \nThrough four modules, which are hel
 d in different cities across Canada, you will develop and implement yo
 ur own strategic and operations plans for your farm.  \n\nWhy Graduat
 es find CTEAM so valuable\n\n\n \n\nContent and Instruction - Outsta
 nding instructors and mentors present cutting edge management concepts
  in a comfortable, yet intense, learning environment. Four modules are
  delivered over five days at select locations across Canada. They intr
 oduce you to a variety of management situations, experiences and condi
 tions.\n\n\n\nLearning is tailored to your situation - Program compl
 etion requires that you apply course material while developing and imp
 lementing strategic and operating plans for your farm.\n\n\nLearn from
  each other - As you develop your plan and discuss issues in the vari
 ous modules, you get instant and expert input and experience from your
  peer group as well as your instructors.\n\n\nOpportunity to see outst
 anding operations - The opportunity to see various farm and business 
 operations is one of the reasons we move the program across Canada. Th
 e tours provide you with access to innovative operations and outstandi
 ng agricultural managers from different areas of the country.\n\n\nA l
 ife-long network - Participants from previous courses continue to cor
 respond with each other, and enjoy the wise counsel of their classmate
 s. You will benefit from the creation of a lasting network with other 
 participants.\n\n\nExcel at what you do - Graduates of this course ha
 ve performed amazingly well. Since 2010, five graduates or graduate co
 uples have been named Outstanding Young Farmer regionally; two were ho
 noured nationally.\nOngoing professional development - Once you've co
 mpleted CTEAM you are able to attend our alumni programs further exten
 ding your network. This course can also be credited toward a MBA at t
 he University of Guelph.\n\n\n\n\n\n\n\n\n\nFor more information visit
  https://ontag.farms.com/events/canadian-total-excellence-in-agricultu
 ral-management-cteam
DTSTART;TZID=Pacific/Midway:20141208T000000
DTEND;TZID=Pacific/Midway:20141212T235900
CATEGORIES:cteam, course
LOCATION:Abbotsford, BC
WEBSITE:http://www.agrifoodtraining.com/for-producers-cteam
URL:http://www.agrifoodtraining.com/for-producers-cteam
CONTACT:
ORGANIZER:Agri-Food Management Excellence; Farm Management Canada
ATTACH;FMTTYPE="image/jpeg":http://storage.ning.com/topology/rest/1.0/
 file/get/1091534098?profile=original
ATTENDEE;ROLE=REQ-PARTICIPANT;PARTSTAT=ACCEPTED;RSVP=TRUE;CN="OntAG Ad
 min":https://ontag.farms.com/profile/OntAGAdmin
END:VEVENT
END:VCALENDAR
