BEGIN:VCALENDAR
PRODID:NingEventWidget-v1
VERSION:2.0
METHOD:PUBLISH
BEGIN:VTIMEZONE
TZID:Pacific/Midway
X-LIC-LOCATION:Pacific/Midway
BEGIN:STANDARD
TZOFFSETFROM:-1100
TZOFFSETTO:-1100
TZNAME:SST
DTSTART:19700101T000000
END:STANDARD
END:VTIMEZONE
BEGIN:VEVENT
UID:3646443:Event:68227
DTSTAMP:20260421T173811Z
SUMMARY:Canola Crop Production Tour
DESCRIPTION:Canola Crop Production Tour at Barclay Dick & Sons near Do
 uglas, Renfrew County. Featuring 5 canola info agronomy stations and h
 arvest panel.10 am to 2:30 pm. \n\nFor more information visit https:/
 /ontag.farms.com/events/canola-crop-production-tour
DTSTART;TZID=Pacific/Midway:20170714T100000
DTEND;TZID=Pacific/Midway:20170714T143000
CATEGORIES:crop, tour
LOCATION:Barclay Dick & Sons
WEBSITE:https://www.google.com/maps?f=q&source=s_q&hl=en&geocode&q=Dou
 glas+ON+Canada
URL:https://www.google.com/maps?f=q&source=s_q&hl=en&geocode&q=Douglas
 +ON+Canada
CONTACT:
ORGANIZER;CN="OntAG Admin":https://ontag.farms.com/profile/OntAGAdmin
ATTACH;FMTTYPE="image/jpeg":
ATTENDEE;ROLE=REQ-PARTICIPANT;PARTSTAT=ACCEPTED;RSVP=TRUE;CN="OntAG Ad
 min":https://ontag.farms.com/profile/OntAGAdmin
END:VEVENT
END:VCALENDAR
