BEGIN:VCALENDAR
PRODID:NingEventWidget-v1
VERSION:2.0
METHOD:PUBLISH
BEGIN:VTIMEZONE
TZID:Pacific/Midway
X-LIC-LOCATION:Pacific/Midway
BEGIN:STANDARD
TZOFFSETFROM:-1100
TZOFFSETTO:-1100
TZNAME:SST
DTSTART:19700101T000000
END:STANDARD
END:VTIMEZONE
BEGIN:VEVENT
UID:3646443:Event:17483
DTSTAMP:20260421T163034Z
SUMMARY:Capital Hoedown Country Music Festival
DESCRIPTION:Capital Hoedown is a three-day annual Country Music Festiv
 al held in Ottawa, ON Canada.In its first year, the festival drew 19,1
 72 people over three days, with notable performances by Alan Jackson, 
 Lorrie Morgan, Emerson Drive, Dwight Yoakam, Jo Dee Messina, Tara Oram
 , Vince Gill, Randy Houser, Bucky Covington, Jetty Road, The Higgins, 
 and Jason Roos.Entering its second year, Capital Hoedown's entertainme
 nt lineup will feature some of the biggest names in Country Music, wit
 h a major emphasis on Canadian content. Capital Hoedown 2011 will take
  place from August 11th to the 13th. Attendance is expected to reach o
 ver 45,000 people per day.\n \nThis year's performances include:Tara 
 OramDoc walkerKenny ChenseyJason Blaine Carrie Underwood Miranda Lambe
 rt\nBilly Currington\nand more!!\n \nThursday, August 11 at 4:00pm - 
 August 13 at 10:30pm\n\nFor more information visit https://ontag.farms
 .com/events/capital-hoedown-country-music
DTSTART;TZID=Pacific/Midway:20110811T160000
DTEND;TZID=Pacific/Midway:20110813T223000
CATEGORIES:concert
LOCATION:Lebreton Flats Park, Ottawa Ontario
WEBSITE:http://www.capitalhoedown.net/
URL:http://www.capitalhoedown.net/
CONTACT:
ORGANIZER:
ATTACH;FMTTYPE="image/jpeg":http://storage.ning.com/topology/rest/1.0/
 file/get/1091509611?profile=original
ATTENDEE;ROLE=REQ-PARTICIPANT;PARTSTAT=ACCEPTED;RSVP=TRUE;CN="Mackenna
  Roth":https://ontag.farms.com/profile/MackennaRoth
END:VEVENT
END:VCALENDAR
