BEGIN:VCALENDAR
PRODID:NingEventWidget-v1
VERSION:2.0
METHOD:PUBLISH
BEGIN:VTIMEZONE
TZID:Pacific/Midway
X-LIC-LOCATION:Pacific/Midway
BEGIN:STANDARD
TZOFFSETFROM:-1100
TZOFFSETTO:-1100
TZNAME:SST
DTSTART:19700101T000000
END:STANDARD
END:VTIMEZONE
BEGIN:VEVENT
UID:3646443:Event:31748
DTSTAMP:20260419T144158Z
SUMMARY:CCA Town Hall Meeting set for Ontario
DESCRIPTION:The CCA's third Town Hall meeting will take place in Chels
 ey, Ontario on July 18, 2012. Hosted in partnership with the Ontario C
 attlemen's Association (OCA), the event will be held at the Chesley Co
 mmunity Centre in conjunction with the Bruce County Cattlemen's Associ
 ation Annual barbecue and the OCA Summer Advisory Councillor Meeting.O
 CA President and CCA director Dan Darling said that CCA Town Halls off
 er a lot of value for producers.\"Not all discussions and exchanges of
  value to our province's beef industry take place in boardrooms and tr
 ade show settings or in the capital cities,\" he said.Darling added it
 's of great benefit to combine the CCA Town Hall with the Bruce County
  barbecue and the OCA advisory councillor meeting\"Town hall meetings 
 allow Ontario beef farmers to connect with each other and with their p
 rovincial and national organizations,\" he said. \"When an opportunity
  arises to have our national leadership attend local, grassroots event
 s in our province, we wholeheartedly welcome them and encourage our me
 mbership to come out, to learn first-hand about the Canadian Cattlemen
 's efforts on their behalf, and to help shape the future direction of 
 this industry.\"CCA town hall meetings provide an excellent opportunit
 y for producers to connect with CCA executives and managers, get the l
 atest industry news and stay up-to-date on the many activities and ini
 tiatives CCA is involved in on behalf of Canada's 83,000 beef cattle p
 roducers.The CCA Town Hall event will take place at 2:00 p.m. ET at th
 e Chesley Community Centre located at 129 4th Avenue S.E, Chesley, ON.
  The Bruce County Cattlemen's Association Annual barbecue will follow 
 at 5:00 p.m.There is no fee to attend the CCA Town Hall meeting but sp
 ace is limited so we do ask interested producers to please RSVP at ww
 w.cattle.ca/townhall or call Matt French at 403-275-8558. Sponsorship
  from Farm Credit Canada enables the CCA to hold town hall events th
 rough to 2014.\n\nFor more information visit https://ontag.farms.com/e
 vents/cca-town-hall-meeting-set-for-ontario
DTSTART;TZID=Pacific/Midway:20120718T000000
DTEND;TZID=Pacific/Midway:20120718T235900
CATEGORIES:town, hall, meeting
LOCATION:Chesley Community Centre
WEBSITE:http://www.cattle.ca/townhall
URL:http://www.cattle.ca/townhall
CONTACT:Matt French at 403-275-8558
ORGANIZER:Canadian Cattlemen's Association
ATTACH;FMTTYPE="image/jpeg":http://storage.ning.com/topology/rest/1.0/
 file/get/1091514938?profile=original
ATTENDEE;ROLE=REQ-PARTICIPANT;PARTSTAT=ACCEPTED;RSVP=TRUE;CN="OntAG Ad
 min":https://ontag.farms.com/profile/OntAGAdmin
END:VEVENT
END:VCALENDAR
