BEGIN:VCALENDAR
PRODID:NingEventWidget-v1
VERSION:2.0
METHOD:PUBLISH
BEGIN:VTIMEZONE
TZID:Pacific/Midway
X-LIC-LOCATION:Pacific/Midway
BEGIN:STANDARD
TZOFFSETFROM:-1100
TZOFFSETTO:-1100
TZNAME:SST
DTSTART:19700101T000000
END:STANDARD
END:VTIMEZONE
BEGIN:VEVENT
UID:3646443:Event:59354
DTSTAMP:20260420T090659Z
SUMMARY:Centralia Swine Research Update
DESCRIPTION:Registration required by January 23, 2015\n\nPhone – Car
 rie Parsons at (519) 271-0119\nEmail – carrie.parsons@ontario.ca\n\n
 Further Information – Contact Carrie Parsons, OMAFRA (519) 271-0119D
 eadline for Registration is Friday January 23, 2015\n\nFor more inform
 ation visit https://ontag.farms.com/events/centralia-swine-research-up
 date-1
DTSTART;TZID=Pacific/Midway:20150128T091500
DTEND;TZID=Pacific/Midway:20150128T153000
CATEGORIES:seminar
LOCATION:Kirkton-Woodham Community Centre
WEBSITE:
URL:
CONTACT:(519) 271-0119
ORGANIZER;CN="OntAG Admin":https://ontag.farms.com/profile/OntAGAdmin
ATTACH;FMTTYPE="image/jpeg":http://storage.ning.com/topology/rest/1.0/
 file/get/1091533902?profile=original
ATTENDEE;ROLE=REQ-PARTICIPANT;PARTSTAT=ACCEPTED;RSVP=TRUE;CN="OntAG Ad
 min":https://ontag.farms.com/profile/OntAGAdmin
END:VEVENT
END:VCALENDAR
