BEGIN:VCALENDAR
PRODID:NingEventWidget-v1
VERSION:2.0
METHOD:PUBLISH
BEGIN:VTIMEZONE
TZID:Pacific/Midway
X-LIC-LOCATION:Pacific/Midway
BEGIN:STANDARD
TZOFFSETFROM:-1100
TZOFFSETTO:-1100
TZNAME:SST
DTSTART:19700101T000000
END:STANDARD
END:VTIMEZONE
BEGIN:VEVENT
UID:3646443:Event:36476
DTSTAMP:20260421T062745Z
SUMMARY:Centralia Swine Research Update
DESCRIPTION:Further Information - Contact Linda Dillon, OMAFRA (519) 4
 82-3333 Deadline for Registration is Friday January 25, 2013\n\nFor mo
 re information visit https://ontag.farms.com/events/centralia-swine-re
 search-update
DTSTART;TZID=Pacific/Midway:20130130T091500
DTEND;TZID=Pacific/Midway:20130130T153000
CATEGORIES:seminar
LOCATION:Kirkton-Woodham Community Centre
WEBSITE:http://www.CentraliaSwineResearch.ca
URL:http://www.CentraliaSwineResearch.ca
CONTACT:(519) 482-3333
ORGANIZER;CN="OntAG Admin":https://ontag.farms.com/profile/OntAGAdmin
ATTACH;FMTTYPE="image/jpeg":http://storage.ning.com/topology/rest/1.0/
 file/get/1091518998?profile=original
ATTENDEE;ROLE=REQ-PARTICIPANT;PARTSTAT=ACCEPTED;RSVP=TRUE;CN="OntAG Ad
 min":https://ontag.farms.com/profile/OntAGAdmin
END:VEVENT
END:VCALENDAR
