BEGIN:VCALENDAR
PRODID:NingEventWidget-v1
VERSION:2.0
METHOD:PUBLISH
BEGIN:VTIMEZONE
TZID:Pacific/Midway
X-LIC-LOCATION:Pacific/Midway
BEGIN:STANDARD
TZOFFSETFROM:-1100
TZOFFSETTO:-1100
TZNAME:SST
DTSTART:19700101T000000
END:STANDARD
END:VTIMEZONE
BEGIN:VEVENT
UID:3646443:Event:77993
DTSTAMP:20260422T074910Z
SUMMARY:CerealSmart 2020
DESCRIPTION:Registrations open December 1, 2019. On-line registration 
 at: Registration or call the AICC Centre  1-877-424-1300\r\nAnchor 
 Speaker: Phil Needham, Needham Ag Technologies, Kentucky, US\r\n\r\n\r
 \nPhil Needham is a native of the United Kingdom and grew up on the fa
 mily farming operation. He studied agriculture and soil science at agr
 icultural college and university in England. He moved to the United St
 ates in 1989 to help expand a European crop management system called O
 pti-Crop and became manager in 1995. Phil started his own company Need
 ham Ag Technologies in 2005 and consults directly with farmers, dealer
 s and equipment manufacturers.\r\nPDF of program\r\nTo registration go
  to our Registration Site or call the AICC 1-877-424-1300  \n\nFor m
 ore information visit https://ontag.farms.com/events/cerealsmart-2020
DTSTART;TZID=Pacific/Midway:20200117T083000
DTEND;TZID=Pacific/Midway:20200117T170000
CATEGORIES:conference
LOCATION:RIM Park, Manulife Financial Sportsplex
WEBSITE:https://farmsmartconference.com/cerealsmart-2020/
URL:https://farmsmartconference.com/cerealsmart-2020/
CONTACT:1-877-424-1300
ORGANIZER:farmsmart conference
ATTACH;FMTTYPE="image/jpeg":
ATTENDEE;ROLE=REQ-PARTICIPANT;PARTSTAT=ACCEPTED;RSVP=TRUE;CN="OntAG Ad
 min":https://ontag.farms.com/profile/OntAGAdmin
END:VEVENT
END:VCALENDAR
