BEGIN:VCALENDAR
PRODID:NingEventWidget-v1
VERSION:2.0
METHOD:PUBLISH
BEGIN:VTIMEZONE
TZID:Pacific/Midway
X-LIC-LOCATION:Pacific/Midway
BEGIN:STANDARD
TZOFFSETFROM:-1100
TZOFFSETTO:-1100
TZNAME:SST
DTSTART:19700101T000000
END:STANDARD
END:VTIMEZONE
BEGIN:VEVENT
UID:3646443:Event:111430
DTSTAMP:20260419T175539Z
SUMMARY:CFA Annual General Meeting
DESCRIPTION:The Canadian Federation of Agriculture (CFA) has announced
  agenda highlights for its Annual General Meeting, set for March 6-7, 
 2023.\r\nThis is an election year at CFA, with current President Mary 
 Robinson indicating she is not seeking re-election. As such, the AGM w
 ill announce the new CFA President, Vice-President and 2nd Vice-Presid
 ent positions.\r\nThe AGM will also feature key political and industry
  speakers, and a variety of interesting panels which can be seen below
 :\r\nAgenda and Speaker HighlightsSUNDAY MARCH 5TH3:00pm – 5:00pm Re
 gistration Open (International Ballroom Foyer)Monday, March 6th:\r\n·
     CFA Acclimations for President, Vice-President and 2nd Vice-Pr
 esident\r\n·    Pierre Poilievre, Leader of the Conservative Part
 y of Canada\r\n·    Marie-Claude Bibeau, Minister of Agriculture 
 and Agri-Food\r\n·    Jagmeet Singh, Leader of the New Democratic
  Party\r\n·    Yves-François Blanchet, Leader of the Bloc Quebec
 ois\r\n·    Elizabeth May, Leader of the Green Party of Canada\r
 \nTuesday, March 7th:\r\n·    Live with Real Agriculture Radio Pa
 nel: Innovation & Resilience in Agriculture\r\n·    Examining the
  Current Agriculture Landscape - Challenges and Opportunities Througho
 ut the Food Supply Chain\r\n·    CFA Resolution Voting Process\r\
 n·    President's Closing Remarks\r\nClick here to view the agend
 a\n\nFor more information visit https://ontag.farms.com/events/cfa-ann
 ual-general-meeting
DTSTART;TZID=Pacific/Midway:20230306T070000
DTEND;TZID=Pacific/Midway:20230307T170000
CATEGORIES:annual, general, meeting
LOCATION:Delta Ottawa City Centre
WEBSITE:https://www.cfa-fca.ca/events/2023-cfa-agm/
URL:https://www.cfa-fca.ca/events/2023-cfa-agm/
CONTACT:
ORGANIZER:Canadian Federation Of Agriculture
ATTACH;FMTTYPE="image/jpeg":https://storage.ning.com/topology/rest/1.0
 /file/get/10978043085?profile=original
ATTENDEE;ROLE=REQ-PARTICIPANT;PARTSTAT=ACCEPTED;RSVP=TRUE;CN="OntAG Ad
 min":https://ontag.farms.com/profile/OntAGAdmin
END:VEVENT
END:VCALENDAR
