BEGIN:VCALENDAR
PRODID:NingEventWidget-v1
VERSION:2.0
METHOD:PUBLISH
BEGIN:VTIMEZONE
TZID:Pacific/Midway
X-LIC-LOCATION:Pacific/Midway
BEGIN:STANDARD
TZOFFSETFROM:-1100
TZOFFSETTO:-1100
TZNAME:SST
DTSTART:19700101T000000
END:STANDARD
END:VTIMEZONE
BEGIN:VEVENT
UID:3646443:Event:14976
DTSTAMP:20260423T090650Z
SUMMARY:CFA : National Agriculture Leader's Debate
DESCRIPTION:CFA will host a National Agriculture Leader's debate with 
 Agriculture Minister Ritz and the agricultural critics from opposition
  parties. The event will take place Monday, April 11 from 11-1 at the 
 Château Laurier. Media and observers are welcomed to attend. The eve
 nt can also be viewed live by podcast at www.cfa-fca.ca. \n \nPlea
 se contact communications@cfafca.ca with any questions.\n\nFor more in
 formation visit https://ontag.farms.com/events/cfa-national-agricultur
 e
DTSTART;TZID=Pacific/Midway:20110411T110000
DTEND;TZID=Pacific/Midway:20110411T130000
CATEGORIES:political, debate
LOCATION:Online by podcast at www.cfa-fca.ca
WEBSITE:http://www.cfa-fca.ca
URL:http://www.cfa-fca.ca
CONTACT:
ORGANIZER:Canadian Federation of Agriculture CFA / FCA
ATTACH;FMTTYPE="image/jpeg":http://storage.ning.com/topology/rest/1.0/
 file/get/1091508931?profile=original
ATTENDEE;ROLE=REQ-PARTICIPANT;PARTSTAT=ACCEPTED;RSVP=TRUE;CN="OntAG Ad
 min":https://ontag.farms.com/profile/OntAGAdmin
END:VEVENT
END:VCALENDAR
