BEGIN:VCALENDAR
PRODID:NingEventWidget-v1
VERSION:2.0
METHOD:PUBLISH
BEGIN:VTIMEZONE
TZID:Pacific/Midway
X-LIC-LOCATION:Pacific/Midway
BEGIN:STANDARD
TZOFFSETFROM:-1100
TZOFFSETTO:-1100
TZNAME:SST
DTSTART:19700101T000000
END:STANDARD
END:VTIMEZONE
BEGIN:VEVENT
UID:3646443:Event:59098
DTSTAMP:20260423T152925Z
SUMMARY:CFFO Annual Convention - 60 Years
DESCRIPTION:\n\nAnnual Convention\n\n\n\n\n\n|Â SpeakersÂ |Â LocationÂ
  |Â AgendaÂ | Â AccommodationÂ |\n\nCFFO Annual Convention December 2,
  2014\nJoin us as we celebrate 60 years supporting family farms across
  Ontario. We will take a look back at what the CFFO has accomplished o
 ver the years and what lies ahead for our organization. Finally, we wi
 ll enjoy a wonderful evening celebrating another year of farming.Â \nF
 or your convenience, CFFO is happy to be able to offer Child Care free
  of charge with parental admission at this year's event.\nWe hope to s
 ee you there\nRegisterÂ \nRegister with Payment\n\n\n\n\n\n\nFor more 
 information visit https://ontag.farms.com/events/cffo-annual-conventio
 n-60-years
DTSTART;TZID=Pacific/Midway:20141202T000000
DTEND;TZID=Pacific/Midway:20141202T235900
CATEGORIES:convention
LOCATION:St. Georgeâ€™s Hall in Waterloo
WEBSITE:http://www.christianfarmers.org/index.php?option=com_content&v
 iew=article&id=79
URL:http://www.christianfarmers.org/index.php?option=com_content&view=
 article&id=79
CONTACT:
ORGANIZER:Christian Farmers Federation of Ontario CFFO
ATTACH;FMTTYPE="image/jpeg":
ATTENDEE;ROLE=REQ-PARTICIPANT;PARTSTAT=ACCEPTED;RSVP=TRUE;CN="CFFO Blo
 g":https://ontag.farms.com/profile/CFFOBlog
END:VEVENT
END:VCALENDAR
