BEGIN:VCALENDAR
PRODID:NingEventWidget-v1
VERSION:2.0
METHOD:PUBLISH
BEGIN:VTIMEZONE
TZID:Pacific/Midway
X-LIC-LOCATION:Pacific/Midway
BEGIN:STANDARD
TZOFFSETFROM:-1100
TZOFFSETTO:-1100
TZNAME:SST
DTSTART:19700101T000000
END:STANDARD
END:VTIMEZONE
BEGIN:VEVENT
UID:3646443:Event:115662
DTSTAMP:20260423T053114Z
SUMMARY:CFFO Education Day
DESCRIPTION:CFFO Education Day\r\nJoin us for a fun and informative da
 y at the CFFO Education Day event! Come to the Redeemer university for
  a day filled with learning and networking opportunities. Don't miss o
 ut on the chance to connect with industry experts and fellow farmers. 
 Mark your calendars and be sure to attend CFFO Education Day!\r\nThere
  will be time to meet and speak with CFFO partners and benefit provide
 rs with some presentations during the day.\n\nFor more information vis
 it https://ontag.farms.com/events/cffo-education-day-1
DTSTART;TZID=Pacific/Midway:20251125T090000
DTEND;TZID=Pacific/Midway:20251125T150000
CATEGORIES:education, day, seminar
LOCATION:Redeemer University
WEBSITE:https://www.eventbrite.ca/e/cffo-education-day-tickets-1628779
 295719?aff=erelpanelorg
URL:https://www.eventbrite.ca/e/cffo-education-day-tickets-16287792957
 19?aff=erelpanelorg
CONTACT:
ORGANIZER:Christian Farmers Federation of Ontario (CFFO)
ATTACH;FMTTYPE="image/jpeg":https://storage.ning.com/topology/rest/1.0
 /file/get/13723594662?profile=original
ATTENDEE;ROLE=REQ-PARTICIPANT;PARTSTAT=ACCEPTED;RSVP=TRUE;CN="OntAG Ad
 min":https://ontag.farms.com/profile/OntAGAdmin
END:VEVENT
END:VCALENDAR
