BEGIN:VCALENDAR
PRODID:NingEventWidget-v1
VERSION:2.0
METHOD:PUBLISH
BEGIN:VTIMEZONE
TZID:Pacific/Midway
X-LIC-LOCATION:Pacific/Midway
BEGIN:STANDARD
TZOFFSETFROM:-1100
TZOFFSETTO:-1100
TZNAME:SST
DTSTART:19700101T000000
END:STANDARD
END:VTIMEZONE
BEGIN:VEVENT
UID:3646443:Event:115566
DTSTAMP:20260423T004631Z
SUMMARY:CFFO Education Day
DESCRIPTION:Join  for a fun and informative day at the CFFO Educatio
 n Day event! Come to Georgian College (1 Georgian Dr, Barrie ON L4M 
 3X9, Canada) for a day filled with learning and networking opportunit
 ies. Don't miss out on the chance to connect with industry experts and
  fellow farmers. Mark your calendars and be sure to attend CFFO Educa
 tion Day!listen from top Agriculture men talk about \"Agriculture in t
 he Global markets\" Our dependency on Trade and Marketing tools. Al Mu
 ssell and Steve Duff will be our key speakers.\r\nThere will be time t
 o meet and speak with CFFO partners and benefit providers with some pr
 esentations during the day.\r\n\n\nFor more information visit https://
 ontag.farms.com/events/cffo-education-day-2
DTSTART;TZID=Pacific/Midway:20251127T090000
DTEND;TZID=Pacific/Midway:20251127T150000
CATEGORIES:education, day, seminar
LOCATION:Georgian College
WEBSITE:https://www.eventbrite.ca/e/cffo-education-day-tickets-1628779
 295719?aff=erelpanelorg
URL:https://www.eventbrite.ca/e/cffo-education-day-tickets-16287792957
 19?aff=erelpanelorg
CONTACT:
ORGANIZER:Christian Farmers Federation of Ontario (CFFO)
ATTACH;FMTTYPE="image/jpeg":https://storage.ning.com/topology/rest/1.0
 /file/get/13723594662?profile=original
ATTENDEE;ROLE=REQ-PARTICIPANT;PARTSTAT=ACCEPTED;RSVP=TRUE;CN="OntAG Ad
 min":https://ontag.farms.com/profile/OntAGAdmin
END:VEVENT
END:VCALENDAR
