BEGIN:VCALENDAR
PRODID:NingEventWidget-v1
VERSION:2.0
METHOD:PUBLISH
BEGIN:VTIMEZONE
TZID:Pacific/Midway
X-LIC-LOCATION:Pacific/Midway
BEGIN:STANDARD
TZOFFSETFROM:-1100
TZOFFSETTO:-1100
TZNAME:SST
DTSTART:19700101T000000
END:STANDARD
END:VTIMEZONE
BEGIN:VEVENT
UID:3646443:Event:115665
DTSTAMP:20260423T004700Z
SUMMARY:CFFO Education Day
DESCRIPTION:Join us for a fun and informative day at the CFFO Educatio
 n Day event! Come to the North Grenville (40 Campus Drive, Parish Hall
 , Kemptville On K0g 1j0, Canada); Kemptville Campus for a day filled w
 ith learning and networking opportunities. Don't miss out on the chanc
 e to connect with industry experts and fellow farmers. Mark your calen
 dars and be sure to attend CFFO Education Day!\r\n\r\nThere will be ti
 me to meet and speak with CFFO partners and benefit providers with som
 e presentations during the day.\n\nFor more information visit https://
 ontag.farms.com/events/cffo-education-day-3
DTSTART;TZID=Pacific/Midway:20251204T090000
DTEND;TZID=Pacific/Midway:20251204T150000
CATEGORIES:education, day, seminar
LOCATION:Kemptville Campus
WEBSITE:https://www.eventbrite.ca/e/cffo-education-day-tickets-1628779
 295719?aff=erelpanelorg
URL:https://www.eventbrite.ca/e/cffo-education-day-tickets-16287792957
 19?aff=erelpanelorg
CONTACT:
ORGANIZER:Christian Farmers Federation of Ontario (CFFO)
ATTACH;FMTTYPE="image/jpeg":https://storage.ning.com/topology/rest/1.0
 /file/get/13723594662?profile=original
ATTENDEE;ROLE=REQ-PARTICIPANT;PARTSTAT=ACCEPTED;RSVP=TRUE;CN="OntAG Ad
 min":https://ontag.farms.com/profile/OntAGAdmin
END:VEVENT
END:VCALENDAR
