BEGIN:VCALENDAR
PRODID:NingEventWidget-v1
VERSION:2.0
METHOD:PUBLISH
BEGIN:VTIMEZONE
TZID:Pacific/Midway
X-LIC-LOCATION:Pacific/Midway
BEGIN:STANDARD
TZOFFSETFROM:-1100
TZOFFSETTO:-1100
TZNAME:SST
DTSTART:19700101T000000
END:STANDARD
END:VTIMEZONE
BEGIN:VEVENT
UID:3646443:Event:115563
DTSTAMP:20260420T043635Z
SUMMARY:CFFO Education Day
DESCRIPTION:Join us for a fun and informative day of learning at CFFO 
 Education Day!\r\nWe have 2 great sets of panelists presenting and tak
 ing questions from those in attendance. First set of panelists are Che
 ryl Maloney, Ian Cubbitt and Tony Ciero, all 3 are very strong in the 
 financial world and are able to give great advice and expertise in tha
 t field to help farmers, and those looking to retire/downsize or do a 
 succession plan. After a free lunch, the second set of panelists will 
 join the stage and take questions from those who are interested in the
  trade world of agriculture. We have Steve Duff and Al Mussell, 2 very
  well-known Agricultural industry men who are very knowledgeable in th
 at area.\r\nEach event will take place during the day from 10-3 with d
 oors opening at 9:00 and registration at 9:30. Lunch is free. This eve
 nt is open to all\n\nFor more information visit https://ontag.farms.co
 m/events/cffo-education-day
DTSTART;TZID=Pacific/Midway:20251104T090000
DTEND;TZID=Pacific/Midway:20251104T160000
CATEGORIES:education, day, seminar
LOCATION:Brooke-Alvinston-Inwood Community Centre Complex
WEBSITE:https://www.eventbrite.ca/e/cffo-education-day-tickets-1607425
 205059?aff=oddtdtcreator
URL:https://www.eventbrite.ca/e/cffo-education-day-tickets-16074252050
 59?aff=oddtdtcreator
CONTACT:
ORGANIZER:Christian Farmers Federation of Ontario (CFFO)
ATTACH;FMTTYPE="image/jpeg":https://storage.ning.com/topology/rest/1.0
 /file/get/13723594662?profile=original
ATTENDEE;ROLE=REQ-PARTICIPANT;PARTSTAT=ACCEPTED;RSVP=TRUE;CN="OntAG Ad
 min":https://ontag.farms.com/profile/OntAGAdmin
END:VEVENT
END:VCALENDAR
