BEGIN:VCALENDAR
PRODID:NingEventWidget-v1
VERSION:2.0
METHOD:PUBLISH
BEGIN:VTIMEZONE
TZID:Pacific/Midway
X-LIC-LOCATION:Pacific/Midway
BEGIN:STANDARD
TZOFFSETFROM:-1100
TZOFFSETTO:-1100
TZNAME:SST
DTSTART:19700101T000000
END:STANDARD
END:VTIMEZONE
BEGIN:VEVENT
UID:3646443:Event:114471
DTSTAMP:20260420T053305Z
SUMMARY:CFGA Conference in Guelph this December!
DESCRIPTION:The Ontario Forage Council is pleased to be partnering wit
 h the Canadian Forage and Grassland Association (CFGA) for CFGA's Annu
 al Conference in Guelph this December, from the 3rd to the 6th.This ye
 ar’s theme is Roots to Success: The Foundation of Resilient Agricult
 ure. During this not-to-be-missed three-day event, we will learn about
  exciting and cutting-edge happenings in the forage sector and gain va
 luable information and inspiration for anyone involved in the forage a
 nd grassland sectors across the country.\n\nFor more information visit
  https://ontag.farms.com/events/cfga-conference-in-guelph-this-decembe
 r
DTSTART;TZID=Pacific/Midway:20241203T083000
DTEND;TZID=Pacific/Midway:20241206T220000
CATEGORIES:conference
LOCATION:Delta Hotel
WEBSITE:https://www.canadianfga.ca/en/events/conference-2024/
URL:https://www.canadianfga.ca/en/events/conference-2024/
CONTACT:
ORGANIZER:Ontario Forage Council
ATTACH;FMTTYPE="image/jpeg":https://storage.ning.com/topology/rest/1.0
 /file/get/12975382292?profile=original
ATTENDEE;ROLE=REQ-PARTICIPANT;PARTSTAT=ACCEPTED;RSVP=TRUE;CN="OntAG Ad
 min":https://ontag.farms.com/profile/OntAGAdmin
END:VEVENT
END:VCALENDAR
