BEGIN:VCALENDAR
PRODID:NingEventWidget-v1
VERSION:2.0
METHOD:PUBLISH
BEGIN:VTIMEZONE
TZID:Pacific/Midway
X-LIC-LOCATION:Pacific/Midway
BEGIN:STANDARD
TZOFFSETFROM:-1100
TZOFFSETTO:-1100
TZNAME:SST
DTSTART:19700101T000000
END:STANDARD
END:VTIMEZONE
BEGIN:VEVENT
UID:3646443:Event:77970
DTSTAMP:20260423T174450Z
SUMMARY:Chatham-Kent-Essex CFA: MPAC Information Night
DESCRIPTION:The Chatham-Kent-Essex Christian Farmers Association is ho
 sting a free MPAC Information Night. All are welcome. Join us for fell
 owship, homemade pies and some great information!\r\nGuest Speakers\r\
 nBrenda Slater & Tracy Pringle\r\nRSVPPlease call a CKE District Board
  Member to rsvp:\r\nJacques Tetreault, 519-682-1057Randy Nauta, 519-67
 6-5304Michael Dodman, 519-676-9499Nick Sikkema, 519-676-2278Gus Ternoe
 y, 519-784-0119\n\nFor more information visit https://ontag.farms.com/
 events/chatham-kent-essex-cfa-mpac-information-night
DTSTART;TZID=Pacific/Midway:20191202T190000
DTEND;TZID=Pacific/Midway:20191202T210000
CATEGORIES:information, night
LOCATION:Maple City Baptist Church
WEBSITE:https://christianfarmers.org/event/chatham-kent-essex-cfa-mpac
 -information-night/
URL:https://christianfarmers.org/event/chatham-kent-essex-cfa-mpac-inf
 ormation-night/
CONTACT:519-682-1057
ORGANIZER:Christian Farmers Association
ATTACH;FMTTYPE="image/jpeg":
ATTENDEE;ROLE=REQ-PARTICIPANT;PARTSTAT=ACCEPTED;RSVP=TRUE;CN="OntAG Ad
 min":https://ontag.farms.com/profile/OntAGAdmin
END:VEVENT
END:VCALENDAR
