BEGIN:VCALENDAR
PRODID:NingEventWidget-v1
VERSION:2.0
METHOD:PUBLISH
BEGIN:VTIMEZONE
TZID:Pacific/Midway
X-LIC-LOCATION:Pacific/Midway
BEGIN:STANDARD
TZOFFSETFROM:-1100
TZOFFSETTO:-1100
TZNAME:SST
DTSTART:19700101T000000
END:STANDARD
END:VTIMEZONE
BEGIN:VEVENT
UID:3646443:Event:113623
DTSTAMP:20260419T221733Z
SUMMARY:Clarington Agriculture Summit
DESCRIPTION:Members of the agriculture community in Clarington and sur
 rounding area, the Clarington Agriculture Summit has returned!  Join u
 s, the Clarington Board of Trade, and partners in agriculture who have
  a passion for initiatives that celebrate agriculture, promote opportu
 nities in agriculture, and support members of a community who invest s
 o much more than time, to provide for and feed the world. We look forw
 ard to seeing you, welcoming our guest speakers and creating a space t
 o cultivate connections with fellow farmers as well as students, teach
 ers and restauranteurs.\r\nBreakfast and Lunch included.   \n\nFor mor
 e information visit https://ontag.farms.com/events/clarington-agricult
 ure-summit
DTSTART;TZID=Pacific/Midway:20240405T090000
DTEND;TZID=Pacific/Midway:20240405T130000
CATEGORIES:agriculture, summit
LOCATION:Solina Community Hall
WEBSITE:https://members.cbot.ca/events/Details/clarington-agriculture-
 summit-1071749?sourceTypeId=Website
URL:https://members.cbot.ca/events/Details/clarington-agriculture-summ
 it-1071749?sourceTypeId=Website
CONTACT:
ORGANIZER:Clarington Board of Trade
ATTACH;FMTTYPE="image/jpeg":https://storage.ning.com/topology/rest/1.0
 /file/get/12419858679?profile=original
ATTENDEE;ROLE=REQ-PARTICIPANT;PARTSTAT=ACCEPTED;RSVP=TRUE;CN="OntAG Ad
 min":https://ontag.farms.com/profile/OntAGAdmin
END:VEVENT
END:VCALENDAR
