BEGIN:VCALENDAR
PRODID:NingEventWidget-v1
VERSION:2.0
METHOD:PUBLISH
BEGIN:VTIMEZONE
TZID:Pacific/Midway
X-LIC-LOCATION:Pacific/Midway
BEGIN:STANDARD
TZOFFSETFROM:-1100
TZOFFSETTO:-1100
TZNAME:SST
DTSTART:19700101T000000
END:STANDARD
END:VTIMEZONE
BEGIN:VEVENT
UID:3646443:Event:102041
DTSTAMP:20260419T043857Z
SUMMARY:Climate Friendly Gardening
DESCRIPTION:Climate Friendly Gardening. Facilitators: Grey County Ma
 ster Gardeners \nWhat is the impact of changing weather patterns on o
 ur home gardens? \nHow do we as gardeners adapt our best practices in
  horticulture to mitigate the unpredictable effects of these changes i
 n our environment? \nJust as important, how do our gardens and how we
  manage them affect our climate?  What are the ways we home gardeners
  can adapt our common practices to make a positive impact on climate c
 hange? \nGrey County Master Gardeners will discuss the impact of clim
 ate change on our home gardens – and how we can contribute to soluti
 ons.  We will consider strategies related to plant selection and care
 , and soil and water management.   \n\nFor more information visit h
 ttps://ontag.farms.com/events/climate-friendly-gardening
DTSTART;TZID=Pacific/Midway:20210325T190000
DTEND;TZID=Pacific/Midway:20210325T203000
CATEGORIES:agricultural, education, course
LOCATION:ONLINE Grey Agricultual Services Services
WEBSITE:https://www.greyagservices.ca/index.php/grey-agricultural-serv
 ices/winter-course-registration
URL:https://www.greyagservices.ca/index.php/grey-agricultural-services
 /winter-course-registration
CONTACT:5199863756
ORGANIZER:Grey County Agricultural Services
ATTACH;FMTTYPE="image/jpeg":https://storage.ning.com/topology/rest/1.0
 /file/get/8477209669?profile=original
ATTENDEE;ROLE=REQ-PARTICIPANT;PARTSTAT=ACCEPTED;RSVP=TRUE;CN="Grey Bru
 ce Farmers' Week":https://ontag.farms.com/profile/GreyBruceFarmersWeek
END:VEVENT
END:VCALENDAR
