BEGIN:VCALENDAR
PRODID:NingEventWidget-v1
VERSION:2.0
METHOD:PUBLISH
BEGIN:VTIMEZONE
TZID:Pacific/Midway
X-LIC-LOCATION:Pacific/Midway
BEGIN:STANDARD
TZOFFSETFROM:-1100
TZOFFSETTO:-1100
TZNAME:SST
DTSTART:19700101T000000
END:STANDARD
END:VTIMEZONE
BEGIN:VEVENT
UID:3646443:Event:51134
DTSTAMP:20260423T062906Z
SUMMARY:Communicating Effective Agriculture Messaging
DESCRIPTION:How to Communicate how \"Agriculture is doing the right th
 ings in the right way for the right reasons\". A 1-day workshop featur
 ing exiciting & dynamic speaker Dr. Wes Jamison. Associate Prof of Com
 munication, Palm Beach Atlantic University, Florida. $20 per person. L
 unch & refreshments included.\n\nFor more information visit https://on
 tag.farms.com/events/communicating-effective-agriculture-messaging
DTSTART;TZID=Pacific/Midway:20140107T093000
DTEND;TZID=Pacific/Midway:20140107T150000
CATEGORIES:agriculture, communications, workshop
LOCATION:Port Perry - Scugog Arena meeting rooms
WEBSITE:https://maps.google.com/maps?q=1655+Reach+Street,+Port+Perry,+
 ON,+Canada&hl=en&sll=37.0625,-95.677068&sspn=35.821085,56.513672&oq=16
 55+Reac&hnear=1655+Reach+St,+Port+Perry,+Durham+Regional+Municipality,
 +Ontario+L0C,+Canada&t=m&z=16
URL:https://maps.google.com/maps?q=1655+Reach+Street,+Port+Perry,+ON,+
 Canada&hl=en&sll=37.0625,-95.677068&sspn=35.821085,56.513672&oq=1655+R
 eac&hnear=1655+Reach+St,+Port+Perry,+Durham+Regional+Municipality,+Ont
 ario+L0C,+Canada&t=m&z=16
CONTACT:289-385-6804
ORGANIZER:Durham Farm Connections - Tracey Werry
ATTACH;FMTTYPE="image/jpeg":
ATTENDEE;ROLE=REQ-PARTICIPANT;PARTSTAT=ACCEPTED;RSVP=TRUE;CN="Karen Ye
 llowlees":https://ontag.farms.com/profile/KarenYellowlees
END:VEVENT
END:VCALENDAR
